BEGIN:VCALENDAR
VERSION:2.0
PRODID:-//Guild Literary Complex - ECPv6.15.20//NONSGML v1.0//EN
CALSCALE:GREGORIAN
METHOD:PUBLISH
X-ORIGINAL-URL:https://guildcomplex.org
X-WR-CALDESC:Events for Guild Literary Complex
REFRESH-INTERVAL;VALUE=DURATION:PT1H
X-Robots-Tag:noindex
X-PUBLISHED-TTL:PT1H
BEGIN:VTIMEZONE
TZID:America/Chicago
BEGIN:DAYLIGHT
TZOFFSETFROM:-0600
TZOFFSETTO:-0500
TZNAME:CDT
DTSTART:20110313T080000
END:DAYLIGHT
BEGIN:STANDARD
TZOFFSETFROM:-0500
TZOFFSETTO:-0600
TZNAME:CST
DTSTART:20111106T070000
END:STANDARD
BEGIN:DAYLIGHT
TZOFFSETFROM:-0600
TZOFFSETTO:-0500
TZNAME:CDT
DTSTART:20120311T080000
END:DAYLIGHT
BEGIN:STANDARD
TZOFFSETFROM:-0500
TZOFFSETTO:-0600
TZNAME:CST
DTSTART:20121104T070000
END:STANDARD
BEGIN:DAYLIGHT
TZOFFSETFROM:-0600
TZOFFSETTO:-0500
TZNAME:CDT
DTSTART:20130310T080000
END:DAYLIGHT
BEGIN:STANDARD
TZOFFSETFROM:-0500
TZOFFSETTO:-0600
TZNAME:CST
DTSTART:20131103T070000
END:STANDARD
END:VTIMEZONE
BEGIN:VEVENT
DTSTART;TZID=America/Chicago:20120328T183000
DTEND;TZID=America/Chicago:20120328T183059
DTSTAMP:20260416T150854
CREATED:20120304T163503Z
LAST-MODIFIED:20120322T144050Z
UID:843-1332959400-1332959459@guildcomplex.org
SUMMARY:Applied Words/social activism
DESCRIPTION:The Guild Literary Complex of Chicago continues its 2012 season with its returning series\, Applied Words\, which explores creative writing’s intersection with an artistic discipline (e.g. music or visual art) or a non-arts field (e.g. social justice or health). This Applied Words event will explore creative writing as an instrument of social activism – how people are using poetry\, prose or theater to provoke social action or effect change in communities’ behavior or perspective. The evening will include an open mic\, featured readers Michelle Boyd\, Sage Xaxua Morgan-Hubbard and Brenda Parker\, and audience discussion.  As always\, audiences of all backgrounds are welcome. \nThe event is being co-sponsored by Institute for Research on Race & Public Policy’s Narrative Non-Fiction Working Group at UIC\,  and the UIC English Department’s Program for Writers\, who are sponsoring a pre-reading reception with drinks and snacks. \nTIME:             6:30pm drinks/snacks; 7:00 pm reading and discussion \nADMISSION:            Free with r.s.v.p. – email kdixon@guildcomplex.org\, Subject line: Activism \nABOUT THE WRITERS:  \nBrenda Parker is an Assistant Professor at UIC. She joined the Urban Planning and Policy Program in January 2008. She received her Masters and Doctorate degrees in Human Geography from the University of Wisconsin-Madison. She received her Bachelors in Public Affairs from the James Madison College at Michigan State University. She has worked in various non-profit organizations and government agencies\, and as an independent research consultant and program evaluator. Brenda’s current research areas include urban policy\, urban governance\, community and economic development\, and qualitative methods.  She is particularly interested in gender\, race\, community activism\, and progressive politics. She is conducting a research project on relationships between economic development\, secondary markets\, and space. Previous research has focused on community-based mapping\, social justice\, and citizenship. She is also exploring how creative writing can be used to communicate research findings and policy recommendations. \nMichelle Boyd is Associate Professor in the African American Studies and Political Science departments\, and Associate Director for Programs and Partnerships in the Institute for Research on Race and Public Policy at UIC. An urban ethnographer known for her research on the politics of racial identity\, Boyd has published in the Journal of Urban Affairs\, City and Society and the Urban Affairs Review. Her work has received many honors including Best Paper awards from the Urban Affairs Association and the National Conference of Black Political Scientists. Most recently\, her book Jim Crow Nostalgia: Reconstructing Race in Bronzeville won the 2009 Best Book Award in the Construction of Equality and Inequality from the American Political Science Association’s Race and Ethnicity section. Michelle’s current project\, “Meet the Budget Cuts\,” is an audio documentary that examines the experiences of public employees who’ve lost their jobs due to state budget cuts. \nSage Xaxua Morgan-Hubbard earned her MA in Performance Studies at Northwestern University. She is a graduate of Brown University where she double majored in “Performance Studies: Socially Conscious Art of the Everyday” and Ethnic Studies. She is a poet\, activist and teacher from Washington\, D.C. She is the founder of WORD! spoken word artists and activists\, a former DC poetry slam coach and one of the original members of Spoken Resistance and the performance group Sol y Soul\, arts for social change.\n \nABOUT IRRPP at UIC: IRRPP’s Narrative NonFiction Working Group is a multi-disciplinary\, corss-college group of UIC faculty and staff members examinign how scholars can use literary technique to more effectively communicate about race/ethnicity with non-academic audiences. \nThe PROGRAM FOR WRITERS at UIC is a forum of the Department of English. It offers a PhD in English with creative dissertation and also an MA in English with creative manuscript. The Program for Writers at UIC is one of the oldest PhD-granting writing programs in the country. \n 
URL:https://guildcomplex.org/event/applied-wordssocial-activism/
LOCATION:Jane Addams Hull-House Museum\, 800 South Halsted Street\, Chicago\, IL\, United States
CATEGORIES:Applied Words
ORGANIZER;CN="":MAILTO:kdixon@guildcomplex.org
END:VEVENT
END:VCALENDAR