BEGIN:VCALENDAR
VERSION:2.0
PRODID:-//Guild Literary Complex - ECPv6.15.20//NONSGML v1.0//EN
CALSCALE:GREGORIAN
METHOD:PUBLISH
X-ORIGINAL-URL:https://guildcomplex.org
X-WR-CALDESC:Events for Guild Literary Complex
REFRESH-INTERVAL;VALUE=DURATION:PT1H
X-Robots-Tag:noindex
X-PUBLISHED-TTL:PT1H
BEGIN:VTIMEZONE
TZID:America/Chicago
BEGIN:DAYLIGHT
TZOFFSETFROM:-0600
TZOFFSETTO:-0500
TZNAME:CDT
DTSTART:20220313T080000
END:DAYLIGHT
BEGIN:STANDARD
TZOFFSETFROM:-0500
TZOFFSETTO:-0600
TZNAME:CST
DTSTART:20221106T070000
END:STANDARD
BEGIN:DAYLIGHT
TZOFFSETFROM:-0600
TZOFFSETTO:-0500
TZNAME:CDT
DTSTART:20230312T080000
END:DAYLIGHT
BEGIN:STANDARD
TZOFFSETFROM:-0500
TZOFFSETTO:-0600
TZNAME:CST
DTSTART:20231105T070000
END:STANDARD
BEGIN:DAYLIGHT
TZOFFSETFROM:-0600
TZOFFSETTO:-0500
TZNAME:CDT
DTSTART:20240310T080000
END:DAYLIGHT
BEGIN:STANDARD
TZOFFSETFROM:-0500
TZOFFSETTO:-0600
TZNAME:CST
DTSTART:20241103T070000
END:STANDARD
BEGIN:DAYLIGHT
TZOFFSETFROM:-0600
TZOFFSETTO:-0500
TZNAME:CDT
DTSTART:20250309T080000
END:DAYLIGHT
BEGIN:STANDARD
TZOFFSETFROM:-0500
TZOFFSETTO:-0600
TZNAME:CST
DTSTART:20251102T070000
END:STANDARD
END:VTIMEZONE
BEGIN:VEVENT
DTSTART;TZID=America/Chicago:20241107T190000
DTEND;TZID=America/Chicago:20241107T210000
DTSTAMP:20260422T105225
CREATED:20241025T214931Z
LAST-MODIFIED:20241025T214933Z
UID:11926-1731006000-1731013200@guildcomplex.org
SUMMARY:Exhibit B @ PCB - Nov. '24
DESCRIPTION:ExB’s last show of 2024! Sam Herschel Wein\, Emily Anna Maciel Gonzalez\, Sarah Peecher and Emilio Maldonado will be joining Exhibit B at Pilsen Community Books for an evening of readings and community. \n\n\n\nArtist Bios:\n\n\n\nSarah Peecher is a poet living\, working\, and teaching undergraduate writing in Chicago. She’s been a reader for Unwoven Literary Magazine\, co-curates poetry and artwork for Off the Page\, and co-hosted two seasons of the podcast Juxtapose. Her debut chapbook\, Keeling\, is forthcoming from Finishing Line Press in 2025. At the end of a busy day\, you can find her cuddling her cats\, Rumpus and Ruckus. \n\n\n\nEmilio Maldonado is a poet and performer born and raised in Chicago’s concrete jungle\, where streets bury streets. As a world traveler with familial roots in Mexico\, he writes for the world\, the everyman\, with poems also layered in the collisions of culture\, and the music\, and the late night streets of anywhere alone. \n\n\n\nEmily Anna Maciel Gonzalez has been a chatterbox since the womb\, born and raised on the Southside of Chicago. She is a poet\, avid storyteller\, advocate for local politics and most importantly a White Sox fan. As of lately she resides in Wicker Park with her pet rabbit\, Scorpio. By day she is a bilingual PreK 3-5 teacher and nanny. By night she is a dive bar enthusiast\, trivia champion and host of Do Not Submit Humboldt/Wicker. \n\n\n\nSam Herschel Wein (pronouns: he/they) is a lollygagging plum of a poet who specializes in perpetual frolicking. They have an MFA in Creative Writing from the University of Tennessee and were the recipient of a 2022 Pushcart Prize. They have published three chapbooks\, most recently Butt Stuff Flower Bush with Porkbelly Press. He co-founded and edits Underblong. Recent poems can be found in the American Poetry Review\, The Cincinnati Review\, and Shenandoah\, among others. They can be found in the cheese aisle of most stores\, in the middle of a hug\, or editing poems at your local coffee shop.
URL:https://guildcomplex.org/event/exhibit-b-pcb-nov-24/
LOCATION:Pilsen Community Books\, 1102 W 18th St.\, Chicago\, Illinois\, 60608\, United States
CATEGORIES:Exhibit B
ATTACH;FMTTYPE=image/webp:https://guildcomplex.org/wp-content/uploads/2024/10/e5f3d3_b21758a7f71a4481b55c1f55879b20a4mv2.webp
END:VEVENT
BEGIN:VEVENT
DTSTART;TZID=America/Chicago:20240907T120000
DTEND;TZID=America/Chicago:20240907T130000
DTSTAMP:20260422T105225
CREATED:20240815T212606Z
LAST-MODIFIED:20240815T212608Z
UID:11641-1725710400-1725714000@guildcomplex.org
SUMMARY:Printers Row Lit Fest: Exhibit B
DESCRIPTION:Christian Aldana\, Lindsay Hunter\, Jessica Nirvana Ram\, and Dan “Sully” Sullivan join Exhibit B for a special reading at the Midwest’s largest literary festival\, Printers’ Row Lit Festival! \n\n\n\n\n\n\n\nPrinters Row Lit Fest is a free event on the streets of South Dearborn\, from Ida B. Wells to Polk Street in Chicago\, IL. The literary festival will run from 10am-6pm on Saturday\, 9/7\, and Sunday\, 9/8. Learn more about the festival here.  \n\n\n\nLocation: Center Stage
URL:https://guildcomplex.org/event/printers-row-lit-fest-exhibit-b/
LOCATION:Printers Row Lit Festival\, Dearborn and Polk Streets\, Chicago\, 60605\, United States
CATEGORIES:Exhibit B
ATTACH;FMTTYPE=image/jpeg:https://guildcomplex.org/wp-content/uploads/2024/08/prlf-2024-poster.jpg
END:VEVENT
BEGIN:VEVENT
DTSTART;TZID=America/Chicago:20240905T190000
DTEND;TZID=America/Chicago:20240905T230000
DTSTAMP:20260422T105225
CREATED:20240807T215525Z
LAST-MODIFIED:20240807T215721Z
UID:11631-1725562800-1725577200@guildcomplex.org
SUMMARY:Ananda Lima & Daniel Borzutzky In Conversation
DESCRIPTION:A special conversation and reading with award-winning authors Ananda Lima and Daniel Borzutzky about their latest releases\, moderated by poet Alex Wells Shapiro. \n\n\n\n\n\n\n\nAnanda Lima is a poet\, fiction writer\, and translator\, the author of Craft: Stories I Wrote for the Devil (Tor Books\, 2024) and Mother/land (Black Lawrence Press\, 2021)\, winner of the Hudson Prize.  Her work has appeared in four chapbooks\, including Amblyopia (Bull City Press)\, as well as publications such as The American Poetry Review\, Poets.org\, Kenyon Review\, Gulf Coast\, Witness\,  and elsewhere.   She has been awarded the inaugural WIP Fellowship by Latinx-in-Publishing\, sponsored by Macmillan Publishers and has served as a mentor at the New York Foundation for the Arts (NYFA) Immigrant Artist Program. Lima currently serves as a Contributing Editor at Poets & Writers and Program Curator at StoryStudio\, Chicago. She has an MA in Linguistics from UCLA and an MFA in Creative Writing in Fiction from Rutgers University\, Newark. Craft\, her fiction debut\, has received starred reviews from Kirkus Review\, Publishers Weekly and Library Journal\, and The New York Times describes it as “a remarkable debut that announces the arrival of a towering talent.” Originally from Brazil\, she lives in Chicago. \n\n\n\nDaniel Borzutzky is a poet and translator. His most recent book is Written After a Massacre in the Year 2018. His 2016 collection\, The Performance of Becoming Human received the National Book Award. Lake Michigan (2018) was a finalist for the Griffin International Poetry Prize. His most recent translation is Paula Ilabaca Nuñez’s The Loose Pearl (2022)\, winner of the PEN Award for Poetry in Translation. His translation of Galo Ghigliotto’s Valdivia received ALTA’s 2017 National Translation Award\, and he has also translated collections by Raúl Zurita\, and Jaime Luis Huenún. He teaches English and Latin American and Latino Studies at the University of Illinois at Chicago. A forthcoming collection\, The Murmuring Grief of the Americas (Coffee House Press)\, will be published in 2024.
URL:https://guildcomplex.org/event/ananda-lima-daniel-borzutzky-in-conversation/
LOCATION:Pilsen Community Books\, 1102 W 18th St.\, Chicago\, Illinois\, 60608\, United States
CATEGORIES:Applied Words,Exhibit B
ATTACH;FMTTYPE=image/png:https://guildcomplex.org/wp-content/uploads/2024/08/Ananda-Borz-Conversation-7.29.24.png
END:VEVENT
BEGIN:VEVENT
DTSTART;TZID=America/Chicago:20240817T183000
DTEND;TZID=America/Chicago:20240817T203000
DTSTAMP:20260422T105225
CREATED:20240724T235855Z
LAST-MODIFIED:20240731T214802Z
UID:11604-1723919400-1723926600@guildcomplex.org
SUMMARY:Exhibit B: The Poets Platform
DESCRIPTION:Exhibit B will be joined by artists using the Democratic Party platform as a prompt. We are proud to be part of DEMOCRAZY FEST going on from Aug 8-18th at Co-Prosperity with Lumpen Magazines!  \n\n\n\nIdeally\, community feedback would directly impact policy. In this moment where many folks feel either entirely removed from the political process or overwhelmed by it\, Exhibit B will be joined by artists using the Democratic Party platform as a prompt. We are proud to be part of DEMOCRAZY FEST going on from Aug 8-18th at Co-Prosperity! More about DEMOCRAZY FEST: The Democratic National Convention is coming back to Chicago this August 19-22\, and the Left is coming back to protest\, too! Public Media Institute is coordinating a collaborative welcome to artists and activists coming into town. We’re Lump’n it all together under the theme of “Democrazy.” We are living in the legacy of the 1968 DNC protests when activists and artists came together in our city to fight war with love but were met with police violence and state repression. Lumpen 142: Democrazy will revisit these histories while prioritizing the urgent contemporary movements that will bring people back to our streets this year.
URL:https://guildcomplex.org/event/exhibit-b-the-poets-platform/
LOCATION:Co-Prosperity\, 3219 S Morgan St.\, Chicago\, Illinois\, 60608
CATEGORIES:Applied Words,Exhibit B
ATTACH;FMTTYPE=image/webp:https://guildcomplex.org/wp-content/uploads/2024/07/e5f3d3_86c5a369e0ff41d9ac5bd02ff78b504amv2.webp
END:VEVENT
BEGIN:VEVENT
DTSTART;TZID=America/Chicago:20240530T190000
DTEND;TZID=America/Chicago:20240530T200000
DTSTAMP:20260422T105225
CREATED:20240509T213114Z
LAST-MODIFIED:20240509T213422Z
UID:11347-1717095600-1717099200@guildcomplex.org
SUMMARY:Exhibit B at Pilsen Community Books
DESCRIPTION:Fulla Abudul-Jabbar\, Ignatius Valentine Aloysius\, Tamara Mattews and Nat Holtzmann will be joining Exhibit B at Pilsen Community Books for an evening of readings and community.
URL:https://guildcomplex.org/event/exhibit-b-at-pilsen-community-books/
LOCATION:Pilsen Community Books\, 1102 W 18th St.\, Chicago\, Illinois\, 60608\, United States
CATEGORIES:Exhibit B
ATTACH;FMTTYPE=image/jpeg:https://guildcomplex.org/wp-content/uploads/2024/05/unnamed.jpg
END:VEVENT
BEGIN:VEVENT
DTSTART;TZID=America/Chicago:20240511T190000
DTEND;TZID=America/Chicago:20240511T210000
DTSTAMP:20260422T105225
CREATED:20240509T212654Z
LAST-MODIFIED:20240509T213354Z
UID:11340-1715454000-1715461200@guildcomplex.org
SUMMARY:Poets (still) for Palestine: A Night of Art & Community with Exhibit B
DESCRIPTION:Inspired by the continued resilience of the Palestinian people and the rise of campus protests\, Exhibit B and the Guild Literary Complex are hosting another fundraiser for the Palestine Children’s Relief Fund. We were absolutely overwhelmed by the support for this event in early December and feel the continued need to do something tangible with this shared grief.   \n\n\n\nIn addition\, the incredible Sahar Mustafa has once again agreed to join us as host\, reader\, and co-curator for this special night!  Pilsen Community Books will be onsite selling books and donating the proceeds. Refreshments will also be available for sale\, the proceeds also benefitting PCRF.   \n\n\n\n\n\n\n\nTickets are $20 online and at the door. \n\n\n\nWe’ll also accept proof of a $20 donation to: https://pcrf1.app.neoncrm.com/np/clients/pcrf1/campaign.jsp?campaign=14&fundraiser=592330 \n\n\n\nNo person will be turned away for not being able to donate. If you’d like to attend\, but are unable to donate\, please email Exhibit B at exhibitb312@gmail.com
URL:https://guildcomplex.org/event/poets-still-for-palestine-a-night-of-art-community-with-exhibit-b/
LOCATION:Co-Prosperity\, 3219 S Morgan St.\, Chicago\, Illinois\, 60608
CATEGORIES:Exhibit B
ATTACH;FMTTYPE=image/webp:https://guildcomplex.org/wp-content/uploads/2024/05/e5f3d3_79d4a10565bb4e2e985664d717321076mv2.webp
END:VEVENT
BEGIN:VEVENT
DTSTART;TZID=America/Chicago:20240318T080000
DTEND;TZID=America/Chicago:20240318T170000
DTSTAMP:20260422T105225
CREATED:20240318T205722Z
LAST-MODIFIED:20240318T205812Z
UID:11182-1710748800-1710781200@guildcomplex.org
SUMMARY:Exhibit B ONLINE
DESCRIPTION:Join us on Thurs. March 28th\, as Exhibit B will feature incredible performances from artists Anna Portnoy Brimmer\, Summer J. Hart\, and Flor Flores.
URL:https://guildcomplex.org/event/exhibit-b-online/
CATEGORIES:Exhibit B
ATTACH;FMTTYPE=image/webp:https://guildcomplex.org/wp-content/uploads/2024/03/e5f3d3_37960b59ea4746df8c5761ea0288b8eamv2.webp
END:VEVENT
BEGIN:VEVENT
DTSTART;TZID=America/Chicago:20240219T080000
DTEND;TZID=America/Chicago:20240219T170000
DTSTAMP:20260422T105225
CREATED:20240219T204147Z
LAST-MODIFIED:20240219T204154Z
UID:10952-1708329600-1708362000@guildcomplex.org
SUMMARY:Exhibit B: Reading with Juan Martinez\, Charif Shanahan\, Helene Alchanzar\, S Yarberry
DESCRIPTION:Exhibit B is back home from AWP and once again bringing the show to our favorite bookstore in the city\, Pilsen Community Books! On Thursday\, Feb. 29th\, join us as we bring together another incredible lineup featuring Charif Shanahan\, Helene Achanzar\, S. Yarberry\, and Juan Martinez!
URL:https://guildcomplex.org/event/exhibit-b-reading-with-juan-martinez-charif-shanahan-helene-alchanzar-s-yarberry/
LOCATION:Pilsen Community Books\, 1102 W 18th St.\, Chicago\, Illinois\, 60608\, United States
CATEGORIES:Exhibit B
ATTACH;FMTTYPE=image/webp:https://guildcomplex.org/wp-content/uploads/2024/02/e5f3d3_69a0901d8c1a4a89ba85ff342a76542dmv2.webp
END:VEVENT
BEGIN:VEVENT
DTSTART;TZID=America/Chicago:20240209T170000
DTEND;TZID=America/Chicago:20240209T180000
DTSTAMP:20260422T105225
CREATED:20240116T191133Z
LAST-MODIFIED:20240130T233857Z
UID:10878-1707498000-1707501600@guildcomplex.org
SUMMARY:AWP | Poets for the People: Closing Reading with m. mick powell\, Grayson Thompson\, and Donika Kelly
DESCRIPTION:In collaboration with the Guild Literary Complex\, Cave Canem\, and the BLK+BRWN Bookstore\, Exhibit B is hosting a series of literary events\, free and open to the public\, at the Black Archives of Mid-America which will center Black artists and allies. These events complement the AWP conference.  \n\n\n\nThis program is made possible by the support of Cave Canem Foundation\, Inc.\, a nonprofit organization committed to cultivating the artistic and professional growth of Black poets. \n\n\n\n\nView full description of all events here.\n\n\n\n\n\n\n\n\n\n\n\n\n\n\n\n\nFriday February 9th \n\n\n\n5:00 PM – Closing Reading \n\n\n\nPoets m. mick powell\, Grayson Thompson\, and Donika Kelly will perform their latest works.
URL:https://guildcomplex.org/event/awp-poets-for-the-people-closing-reading-with-m-mick-powell-grayson-thompson-and-donika-kelly/
LOCATION:Black Archives Of Mid-America\, 1722 E 17th Terrace\, Kansas City\, Missouri\, 64108
CATEGORIES:Exhibit B
ATTACH;FMTTYPE=image/webp:https://guildcomplex.org/wp-content/uploads/2024/01/e5f3d3_2be6d7fcf5ad443da624225fe6196e2fmv2.webp
END:VEVENT
BEGIN:VEVENT
DTSTART;TZID=America/Chicago:20240209T153000
DTEND;TZID=America/Chicago:20240209T163000
DTSTAMP:20260422T105225
CREATED:20240116T190803Z
LAST-MODIFIED:20240130T233132Z
UID:10876-1707492600-1707496200@guildcomplex.org
SUMMARY:AWP | Poets for the People: Killing the Negative: Book Talk & Reading with Quraysh Ali Lansana\, Moheb Soliman\, and Joel Daniel
DESCRIPTION:In collaboration with the Guild Literary Complex\, Cave Canem\, and the BLK+BRWN Bookstore\, Exhibit B is hosting a series of literary events\, free and open to the public\, at the Black Archives of Mid-America which will center Black artists and allies. These events complement the AWP conference.  \n\n\n\nThis program is made possible by the support of Cave Canem Foundation\, Inc.\, a nonprofit organization committed to cultivating the artistic and professional growth of Black poets. \n\n\n\n\nView full description of all events here.\n\n\n\n\n\n\n\n\n\n\n\n\n\n\n\n\nFriday February 9th \n\n\n\n3:30 PM – Killing the Negative: Book Talk & Reading \n\n\n\nJoin poets Quraysh Ali Lansana and Moheb Soliman and visual artist Joel Daniel Phillips in reading and discussion\, celebrating their new book\, Killing the Negative: A Conversation in Art &Verse. A multi-year collaborative project\, Killing the Negative is an ekphrastic response to the destruction of Depression-era photography of rural America —photos that were originally commissioned by the Farm Security Administration and destroyed by the administration’s own director. Together\, the poet and artist will discuss the project and the questions it raises about power\, representation\, and America’s narratives.
URL:https://guildcomplex.org/event/awp-poets-for-the-people-killing-the-negative-book-talk-reading-with-quraysh-ali-lansana-moheb-soliman-and-joel-daniel/
LOCATION:Black Archives Of Mid-America\, 1722 E 17th Terrace\, Kansas City\, Missouri\, 64108
CATEGORIES:Exhibit B
ATTACH;FMTTYPE=image/png:https://guildcomplex.org/wp-content/uploads/2024/01/KTN-Event-Graphic.png
END:VEVENT
BEGIN:VEVENT
DTSTART;TZID=America/Chicago:20240209T140000
DTEND;TZID=America/Chicago:20240209T150000
DTSTAMP:20260422T105225
CREATED:20240116T190336Z
LAST-MODIFIED:20240130T233211Z
UID:10874-1707487200-1707490800@guildcomplex.org
SUMMARY:AWP | Poets for the People: Reading with Brittany Rogers\, Bernardo Wade\, India Lena Gonzalez\, and Kenyatta Rogers
DESCRIPTION:In collaboration with the Guild Literary Complex\, Cave Canem\, and the BLK+BRWN Bookstore\, Exhibit B is hosting a series of literary events\, free and open to the public\, at the Black Archives of Mid-America which will center Black artists and allies. These events complement the AWP conference.  \n\n\n\nThis program is made possible by the support of Cave Canem Foundation\, Inc.\, a nonprofit organization committed to cultivating the artistic and professional growth of Black poets. \n\n\n\n\nView full description of all events here.\n\n\n\n\n\n\n\n\n\n\n\n\n\n\n\n\nFriday February 9th \n\n\n\n2:00 PM Reading \n\n\n\nPoets Brittany Rogers\, Bernardo Wade\, India Lena Gonzalez\, and Kenyatta Rogers will read selections from their latest work.
URL:https://guildcomplex.org/event/awp-poets-for-the-people-reading-with-brittany-rogers-bernardo-wade-india-lena-gonzalez-and-kenyatta-rogers/
LOCATION:Black Archives Of Mid-America\, 1722 E 17th Terrace\, Kansas City\, Missouri\, 64108
CATEGORIES:Exhibit B
ATTACH;FMTTYPE=image/png:https://guildcomplex.org/wp-content/uploads/2024/01/Reading-Poster-2-PM-Instagram-2.png
END:VEVENT
BEGIN:VEVENT
DTSTART;TZID=America/Chicago:20240209T123000
DTEND;TZID=America/Chicago:20240209T133000
DTSTAMP:20260422T105225
CREATED:20240116T190003Z
LAST-MODIFIED:20240116T192840Z
UID:10872-1707481800-1707485400@guildcomplex.org
SUMMARY:AWP | Poets for the People: In Conversation with J. Howard Rosier
DESCRIPTION:In collaboration with the Guild Literary Complex\, Cave Canem\, and the BLK+BRWN Bookstore\, Exhibit B is hosting a series of literary events\, free and open to the public\, at the Black Archives of Mid-America which will center Black artists and allies. These events complement the AWP conference.  \n\n\n\nThis program is made possible by the support of Cave Canem Foundation\, Inc.\, a nonprofit organization committed to cultivating the artistic and professional growth of Black poets. \n\n\n\n\nView full description of all events here.\n\n\n\n\n\n\n\n\n\n\n\n\n\n\n\n\nFriday February 9th \n\n\n\n12:30 PM – In Conversation with J. Howard Rosier \n\n\n\nCritic and author\, J. Howard Rosier will be joined by specials guests for a discussion surrounding contemporary literature.
URL:https://guildcomplex.org/event/awp-poets-for-the-people-in-conversation-with-j-howard-rosier/
LOCATION:Black Archives Of Mid-America\, 1722 E 17th Terrace\, Kansas City\, Missouri\, 64108
CATEGORIES:Exhibit B
ATTACH;FMTTYPE=image/webp:https://guildcomplex.org/wp-content/uploads/2024/01/e5f3d3_2be6d7fcf5ad443da624225fe6196e2fmv2.webp
END:VEVENT
BEGIN:VEVENT
DTSTART;TZID=America/Chicago:20240208T190000
DTEND;TZID=America/Chicago:20240208T210000
DTSTAMP:20260422T105225
CREATED:20240116T185511Z
LAST-MODIFIED:20240130T232855Z
UID:10869-1707418800-1707426000@guildcomplex.org
SUMMARY:AWP | Poets for the People: Opening Reading with Patricia Smith\, Roger Reeves\, Dr. Taylor Byas\, jason b. crawford\, and Niki Herd
DESCRIPTION:In collaboration with the Guild Literary Complex\, Cave Canem\, and the BLK+BRWN Bookstore\, Exhibit B is hosting a series of literary events\, free and open to the public\, at the Black Archives of Mid-America which will center Black artists and allies. These events complement the AWP conference.  \n\n\n\nThis program is made possible by the support of Cave Canem Foundation\, Inc.\, a nonprofit organization committed to cultivating the artistic and professional growth of Black poets. \n\n\n\n\nView full description of all events here.\n\n\n\n\n\n\n\n\n\n\n\n\n\n\n\n\nThurs. February 8th \n\n\n\n7:00 PM – Opening Reading \n\n\n\nPerformances from Patricia Smith\, Roger Reeves\, Dr. Taylor Byas\, jason b. crawford\, and Niki Herd
URL:https://guildcomplex.org/event/awp-poets-for-the-people-opening-reading-with-patricia-smith-roger-reeves-dr-taylor-byas-jason-b-crawford-and-niki-herd/
LOCATION:Black Archives Of Mid-America\, 1722 E 17th Terrace\, Kansas City\, Missouri\, 64108
CATEGORIES:Exhibit B
ATTACH;FMTTYPE=image/png:https://guildcomplex.org/wp-content/uploads/2024/01/Opening-Reading-P4P-Event-Poster-3.png
END:VEVENT
BEGIN:VEVENT
DTSTART;TZID=America/Chicago:20240208T170000
DTEND;TZID=America/Chicago:20240208T190000
DTSTAMP:20260422T105225
CREATED:20240116T184839Z
LAST-MODIFIED:20240130T233256Z
UID:10864-1707411600-1707418800@guildcomplex.org
SUMMARY:AWP | Poets for the People: KC All Stars Open Mic hosted by Brandon "Amayzn" Nelson
DESCRIPTION:In collaboration with the Guild Literary Complex\, Cave Canem\, and the BLK+BRWN Bookstore\, Exhibit B is hosting a series of literary events\, free and open to the public\, at the Black Archives of Mid-America which will center Black artists and allies. These events complement the AWP conference.  \n\n\n\nThis program is made possible by the support of Cave Canem Foundation\, Inc.\, a nonprofit organization committed to cultivating the artistic and professional growth of Black poets. \n\n\n\n\nView full description of all events here.\n\n\n\n\n\n\n\n\n\n\n\n\n\n\n\n\nThurs. February 8th \n\n\n\n5:00 PM – KC All Stars Open Mic hosted by Brandon “Amayzn” Nelson \n\n\n\nSign-up starts at 5 PM and all performers will have 3 minutes to read their work.
URL:https://guildcomplex.org/event/awp-poets-for-the-people-kc-all-stars-open-mic-hosted-by-brandon-amayzn-nelson/
LOCATION:Black Archives Of Mid-America\, 1722 E 17th Terrace\, Kansas City\, Missouri\, 64108
CATEGORIES:Exhibit B
ATTACH;FMTTYPE=image/png:https://guildcomplex.org/wp-content/uploads/2024/01/AWP-KC-Event-Poster-Open-Mic-Instagram-Post-2.png
END:VEVENT
BEGIN:VEVENT
DTSTART;TZID=America/Chicago:20231109T190000
DTEND;TZID=America/Chicago:20231109T210000
DTSTAMP:20260422T105225
CREATED:20231017T154602Z
LAST-MODIFIED:20231017T154703Z
UID:10111-1699556400-1699563600@guildcomplex.org
SUMMARY:Exhibit B | A Literary Variety Show
DESCRIPTION:Exhibit B’s November reading at Pilsen Community Books will feature poetry\, prose\, and a piano as authors Willie Lin\, S.L. Wisenberg\, and Michael Dean\, will be joined by pianist Marissa Kerbel for a special evening. 
URL:https://guildcomplex.org/event/exhibit-b-a-literary-variety-show/
LOCATION:Pilsen Community Books\, 1102 W 18th St.\, Chicago\, Illinois\, 60608\, United States
CATEGORIES:Exhibit B
ATTACH;FMTTYPE=image/png:https://guildcomplex.org/wp-content/uploads/2023/10/ExB-Nov.-23-Cover-Graphic-1.png
END:VEVENT
BEGIN:VEVENT
DTSTART;TZID=America/Chicago:20230909T160000
DTEND;TZID=America/Chicago:20230909T170000
DTSTAMP:20260422T105225
CREATED:20230831T022053Z
LAST-MODIFIED:20230904T234457Z
UID:9978-1694275200-1694278800@guildcomplex.org
SUMMARY:Exhibit B @ Printers Row Lit Fest
DESCRIPTION:Exhibit B will be back at Printers Row Lit Fest! \n\n\n\nFaylita Hicks\, Daniel Borzutzky\, Nakiyah T.M. Jordan\, and Exhibit B’s very own\, James Stewart III\, are going to bring it!  \n\n\n\nCatch them on Saturday\, Sept. 9th\, 4 PM at 731 S. Plymouth Ct.
URL:https://guildcomplex.org/event/exhibit-b-printers-row-lit-fest/
LOCATION:Printers’ Row Lit Fest – 731 S. Plymouth Ct.\, 731 S. Plymouth Ct.\, Chicago\, Illinois\, 60647
CATEGORIES:Exhibit B
ATTACH;FMTTYPE=image/jpeg:https://guildcomplex.org/wp-content/uploads/2023/08/369854557_677356351078307_505667693011126473_n.jpg
END:VEVENT
BEGIN:VEVENT
DTSTART;TZID=America/Chicago:20230730T110000
DTEND;TZID=America/Chicago:20230730T150000
DTSTAMP:20260422T105225
CREATED:20230618T234206Z
LAST-MODIFIED:20230704T162259Z
UID:9613-1690714800-1690729200@guildcomplex.org
SUMMARY:Exhibit B @ Comfort Station | Social Justice Festival
DESCRIPTION:Exhibit B\, Comfort Station\, and the Guild Literary Complex are coming together to host a free outdoor festival in the heart of Chicago’s Logan Square neighborhood.  \n\n\n\nThis special event will feature live music\, poetry\, free food\, and a book drive\, along with non-profit organizations tabling to share the incredible work they’re doing in and around Chicago. \n\n\n\nFull List of Participants Below:\n\n\n\nPartners:\n\n\n\nThe Guild Literary Complex \n\n\n\nComfort Station \n\n\n\nNon-Profit Organizations: \n\n\n\nRefugeeOne \n\n\n\nLife Span \n\n\n\nChicago Community Bond Fund \n\n\n\n826Chi \n\n\n\nSurviving The Mic \n\n\n\nBooks4Cause \n\n\n\nLucky Jefferson \n\n\n\nPerformers:\n\n\n\nAtena O. Danner \n\n\n\nCaroline M. Watson \n\n\n\nFlor Flores \n\n\n\nKatie Prout \n\n\n\nRabha Ashry \n\n\n\nMatt Harper \n\n\n\nMondeaux \n\n\n\nNick Rossi \n\n\n\nNoa Micaela Fields \n\n\n\nTarnynon Onumonu \n\n\n\nTommy Carroll & Chandler Browne
URL:https://guildcomplex.org/event/exhibit-b-outdoor-festival/
LOCATION:Comfort Station/Logan Square Park\, 2579 N Milwaukee Ave\, Chicago\, Illinois\, 60647
CATEGORIES:Exhibit B
ATTACH;FMTTYPE=image/webp:https://guildcomplex.org/wp-content/uploads/2023/07/e5f3d3_23c377ba4a7140bbb95a88e0a19a2873mv2.webp
END:VEVENT
BEGIN:VEVENT
DTSTART;TZID=America/Chicago:20230525T190000
DTEND;TZID=America/Chicago:20230525T210000
DTSTAMP:20260422T105225
CREATED:20230514T204926Z
LAST-MODIFIED:20230514T204928Z
UID:9419-1685041200-1685048400@guildcomplex.org
SUMMARY:Exhibit B Reading: Chad Morgan\, Crystal Vance Guerra\, Parker Young\, and Christie Valentin-Bati
DESCRIPTION:Join us on Thursday\, May 25th\, as Exhibit B brings the show to Pilsen Community Books featuring performances from Chad Morgan\, Crystal Vance Guerra\, Parker Young\, and Christie Valentin-Bati.
URL:https://guildcomplex.org/event/exhibit-b-reading-chad-morgan-crystal-vance-guerra-parker-young-and-christie-valentin-bati/
LOCATION:Pilsen Community Books\, 1102 W 18th St.\, Chicago\, Illinois\, 60608\, United States
CATEGORIES:Exhibit B
ATTACH;FMTTYPE=image/webp:https://guildcomplex.org/wp-content/uploads/2023/05/e5f3d3_de0ff908ac0d4991a72b4477613b20f9mv2.webp
END:VEVENT
BEGIN:VEVENT
DTSTART;TZID=America/Chicago:20230415T190000
DTEND;TZID=America/Chicago:20230415T210000
DTSTAMP:20260422T105225
CREATED:20230404T033313Z
LAST-MODIFIED:20230410T185528Z
UID:9078-1681585200-1681592400@guildcomplex.org
SUMMARY:Exhibit B Presents: Seeing the Space Between Us | An Evening in Community with Diana Solís & Friends
DESCRIPTION:Chicago icon Diana Solís will be joined by an intergenerational group of Latinx artists and writers for readings and a conversation about the past/present/future of Spanish language poetry in Chicago. The event will also celebrate Solís’ recently released photography book\, Luz: Seeing The Space Between Us\, which tracks her return to photography and a matured sense of place within her home community of Pilsen in the wake of 2020’s COVID isolation and lockdown.
URL:https://guildcomplex.org/event/exhibit-b-presents-seeing-the-space-between-us-an-evening-in-community-with-diana-solis-friends/
LOCATION:Pilsen Community Books\, 1102 W 18th St.\, Chicago\, Illinois\, 60608\, United States
CATEGORIES:Exhibit B,Palabra Pura
ATTACH;FMTTYPE=image/png:https://guildcomplex.org/wp-content/uploads/2023/04/Diana-Solis-Event-Flyer-FINAL-1-1.png
END:VEVENT
END:VCALENDAR