BEGIN:VCALENDAR
VERSION:2.0
PRODID:-//Guild Literary Complex - ECPv6.15.20//NONSGML v1.0//EN
CALSCALE:GREGORIAN
METHOD:PUBLISH
X-ORIGINAL-URL:https://guildcomplex.org
X-WR-CALDESC:Events for Guild Literary Complex
REFRESH-INTERVAL;VALUE=DURATION:PT1H
X-Robots-Tag:noindex
X-PUBLISHED-TTL:PT1H
BEGIN:VTIMEZONE
TZID:America/Chicago
BEGIN:DAYLIGHT
TZOFFSETFROM:-0600
TZOFFSETTO:-0500
TZNAME:CDT
DTSTART:20110313T080000
END:DAYLIGHT
BEGIN:STANDARD
TZOFFSETFROM:-0500
TZOFFSETTO:-0600
TZNAME:CST
DTSTART:20111106T070000
END:STANDARD
BEGIN:DAYLIGHT
TZOFFSETFROM:-0600
TZOFFSETTO:-0500
TZNAME:CDT
DTSTART:20120311T080000
END:DAYLIGHT
BEGIN:STANDARD
TZOFFSETFROM:-0500
TZOFFSETTO:-0600
TZNAME:CST
DTSTART:20121104T070000
END:STANDARD
BEGIN:DAYLIGHT
TZOFFSETFROM:-0600
TZOFFSETTO:-0500
TZNAME:CDT
DTSTART:20130310T080000
END:DAYLIGHT
BEGIN:STANDARD
TZOFFSETFROM:-0500
TZOFFSETTO:-0600
TZNAME:CST
DTSTART:20131103T070000
END:STANDARD
END:VTIMEZONE
BEGIN:VEVENT
DTSTART;TZID=America/Chicago:20120215T190000
DTEND;TZID=America/Chicago:20120215T230059
DTSTAMP:20260423T114353
CREATED:20120130T051616Z
LAST-MODIFIED:20120130T053903Z
UID:234-1329332400-1329346859@guildcomplex.org
SUMMARY:Palabra Pura with Rey Andújar\, Jorge Frisancho and Juan Dicent (Bilingual Poetry)
DESCRIPTION:Palabra Pura continues its 2012 season with its first guest-curator evening with open mic and featured readers. Tonight’s theme: Mutant Body/Cuerpo Migrante. The evening will present the body as a space for multiple questions related to the state of transition. What does the body leave behind in its translation/transfer? What does it acquire or adapt? In this sense language is an element that determines more than its sensory definition. \nCurator Rey Andújar (Santo Domingo 1977) has published narratives and works of theater since 2005. He studies within a laboratory that investigates the Dramaturgy of the Body. He currently lives in Chicago. \nFEATURED POETS\n\nJuan Dicent (a.k.a. Dino Bonao). This poet\, born in the Dominican Republic and located now in New York City\, maintains a hybrid body of written text addressing the concept of nationality through a Bilingual Performance that draws upon an interesting collection of socio-anthropological notes. Other works include: Happy New Year to You (Pequeñas Resistencias 4. Antología del nuevo cuento norteamericano y caribeño. Páginas de Espuma\, Spain\, 2005); Summertime (Editorial Shampoo\, Dom Rep\, 2006; Santiago Arcos Editor\, Argentina\, 2007; Editorial Universos\, Spain 2010); Poeta en Animal Planet (Editorial Vox\, Argentina 2007); My Uncle’s First Jeans (Textos de Cartón\, Argentina 2009); Monday Street (Editorial Cara de Cuis\, Argentina 2011). visit: www.blogworkorange.blogspot.com  and  www.podworkorange.com \nThe poetry of Jorge Frisancho navigates within the posture of the body in terms of its metaphysical character. His book Estudios sobre un cuerpo (Studies of a Body) explores the possibility of body-to-body journeys. The lyric structure of this poet\, who was born in Barcelona\, raised in Peru\, and who has lived in Chicago for some years\, is generous in its speech and extensive in its embrace; it denotes the body as a space for conflicts and opposing forces. \n 
URL:https://guildcomplex.org/event/palabra-pura-with-rey-andujar-jorge-frisancho-and-juan-dicent-bilingual-poetry/
LOCATION:IL\, United States
CATEGORIES:Palabra Pura
END:VEVENT
END:VCALENDAR