BEGIN:VCALENDAR
VERSION:2.0
PRODID:-//Guild Literary Complex - ECPv6.15.20//NONSGML v1.0//EN
CALSCALE:GREGORIAN
METHOD:PUBLISH
X-WR-CALNAME:Guild Literary Complex
X-ORIGINAL-URL:https://guildcomplex.org
X-WR-CALDESC:Events for Guild Literary Complex
REFRESH-INTERVAL;VALUE=DURATION:PT1H
X-Robots-Tag:noindex
X-PUBLISHED-TTL:PT1H
BEGIN:VTIMEZONE
TZID:America/Chicago
BEGIN:DAYLIGHT
TZOFFSETFROM:-0600
TZOFFSETTO:-0500
TZNAME:CDT
DTSTART:20110313T080000
END:DAYLIGHT
BEGIN:STANDARD
TZOFFSETFROM:-0500
TZOFFSETTO:-0600
TZNAME:CST
DTSTART:20111106T070000
END:STANDARD
BEGIN:DAYLIGHT
TZOFFSETFROM:-0600
TZOFFSETTO:-0500
TZNAME:CDT
DTSTART:20120311T080000
END:DAYLIGHT
BEGIN:STANDARD
TZOFFSETFROM:-0500
TZOFFSETTO:-0600
TZNAME:CST
DTSTART:20121104T070000
END:STANDARD
BEGIN:DAYLIGHT
TZOFFSETFROM:-0600
TZOFFSETTO:-0500
TZNAME:CDT
DTSTART:20130310T080000
END:DAYLIGHT
BEGIN:STANDARD
TZOFFSETFROM:-0500
TZOFFSETTO:-0600
TZNAME:CST
DTSTART:20131103T070000
END:STANDARD
END:VTIMEZONE
BEGIN:VEVENT
DTSTART;TZID=America/Chicago:20120718T193000
DTEND;TZID=America/Chicago:20120718T210059
DTSTAMP:20260423T045724
CREATED:20120531T011323Z
LAST-MODIFIED:20120531T012217Z
UID:1349-1342639800-1342645259@guildcomplex.org
SUMMARY:Palabra Pura: "Cross-Cultural Latino/a"
DESCRIPTION:This evening will showcase two poets with a passion for cross-cultural experiences – poetry that travels. \nCurator \nFrancisco Aragón is Director of Letras Latinas\, the national literary program of the Institute for Latino Studies\, University of Notre Dame\, and has been a member of the Institute since 2003. He has published\, edited or contributed to numerous poetry books and journals and his poems and translations have appeared in various print and web publications. He is a member of Macondo Writing Workshop and serves on the board of the Association of Writers & Writing Programs (AWP). He holds degrees in Spanish from the University of California at Berkeley and New York University\, and an MA in English and an MFA in creative writing from the University of California at Davis and the University of Notre Dame\, respectively. \nFeatured Poets \nErika L. Sánchez graduated Phi Beta Kappa from the University of Illinois at Chicago\, was a recipient of a Fulbright Scholarship to Madrid\, Spain\, and holds an MFA in Creative Writing from the University of New Mexico. She is currently a reader for Another Chicago Magazine\, a freelance bilingual book reviewer for Kirkus Reviews\, and a contributor for The Huffington Post and Mamiverse. Her poetry has appeared or is forthcoming in Pleiades\, Drunken Boat\, Witness\, Anti-\, Rhino\, Hunger Mountain\, Crab Orchard Review\, Hayden’s Ferry Review\, Copper Nickel\, and others. Her nonfiction has appeared in Jezebel\, Ms. Magazine\, and American Public Media. She is currently working on a memoir and poetry manuscript. erikalsanchez.com \nRichard Blanco was made in Cuba\, assembled in Spain\, and imported to the United States — meaning his mother\, seven months pregnant\, and the rest of the family arrived as exiles from Cuba to Madrid where he was born. Forty-five days later\, the family emigrated once more\, eventually settling in Miami where he was raised and educated. His acclaimed first book of poetry\, City of a Hundred Fires\, which explores the negotiation of cultural identity as a Cuban-American\, won the Agnes Starrett Poetry Prize from the University of Pittsburgh Press (1998). Since 1999\, Blanco has traveled extensively and lived in Guatemala\, Brazil\, Connecticut\, where he was Assistant Professor of Creative Writing and Latino Literature\, and Washington DC\, where he taught at Georgetown and American University. His second book\, Directions to the Beach of the Dead continues to explore themes of home\, place\, and identity (University of Arizona Press\, Camino Del Sol Series\, 2005). His poems have appeared in major literary journals and anthologies\, including The Best American Poetry 2000\, Great American Prose Poems\, The Breadloaf Anthology of New American Poets\, and he has been featured on National Public Radio. Blanco received the John Ciardi Fellowship from the Bread Loaf Writers Conference\, a Florida Artist Fellowship\, and a Residency Fellowship from the Virginia Center for the Creative Arts. A builder of bridges and poems\, Blanco earned both a bachelors of science degree in Civil Engineering (1991) and a Master in Fine Arts in Creative Writing (1997) from Florida International University\, where he studied with Campbell McGrath. http://www.richard-blanco.com/ \n 
URL:https://guildcomplex.org/event/palabra-pura-cross-cultural-latinoa/
LOCATION:La Bruquena restaurant (upstairs)\, 2726 W. Division\, Chicago\, IL\, United States
CATEGORIES:Palabra Pura
ORGANIZER;CN="":MAILTO:info@guildcomplex.org
END:VEVENT
END:VCALENDAR