BEGIN:VCALENDAR
VERSION:2.0
PRODID:-//Guild Literary Complex - ECPv6.15.20//NONSGML v1.0//EN
CALSCALE:GREGORIAN
METHOD:PUBLISH
X-WR-CALNAME:Guild Literary Complex
X-ORIGINAL-URL:https://guildcomplex.org
X-WR-CALDESC:Events for Guild Literary Complex
REFRESH-INTERVAL;VALUE=DURATION:PT1H
X-Robots-Tag:noindex
X-PUBLISHED-TTL:PT1H
BEGIN:VTIMEZONE
TZID:America/Chicago
BEGIN:DAYLIGHT
TZOFFSETFROM:-0600
TZOFFSETTO:-0500
TZNAME:CDT
DTSTART:20120311T080000
END:DAYLIGHT
BEGIN:STANDARD
TZOFFSETFROM:-0500
TZOFFSETTO:-0600
TZNAME:CST
DTSTART:20121104T070000
END:STANDARD
BEGIN:DAYLIGHT
TZOFFSETFROM:-0600
TZOFFSETTO:-0500
TZNAME:CDT
DTSTART:20130310T080000
END:DAYLIGHT
BEGIN:STANDARD
TZOFFSETFROM:-0500
TZOFFSETTO:-0600
TZNAME:CST
DTSTART:20131103T070000
END:STANDARD
BEGIN:DAYLIGHT
TZOFFSETFROM:-0600
TZOFFSETTO:-0500
TZNAME:CDT
DTSTART:20140309T080000
END:DAYLIGHT
BEGIN:STANDARD
TZOFFSETFROM:-0500
TZOFFSETTO:-0600
TZNAME:CST
DTSTART:20141102T070000
END:STANDARD
END:VTIMEZONE
BEGIN:VEVENT
DTSTART;TZID=America/Chicago:20130320T193000
DTEND;TZID=America/Chicago:20130320T210000
DTSTAMP:20260422T163326
CREATED:20130117T152900Z
LAST-MODIFIED:20130227T183740Z
UID:1789-1363807800-1363813200@guildcomplex.org
SUMMARY:Palabra Pura: Poems as Stories\, Stories as Poems
DESCRIPTION:Dawn Herrera\n  \nFeaturing Dawn Herrera Helphand and Denise Ruiz\, Poems as Stories\, Stories as Poems explores the ways that poetry opens up narrative possibilities. At once funny and fierce\, thoughtful and bizarre\, this month’s Palabra Pura\, curated by Coya Paz\, brings verse and storytelling together through the words of two powerful women. \nDawn Herrera Helphand is a poet\, a mother and a full-time lover. Dawn was most recently seen onstage as “Pink Slime” in “Unnatural Spaces\,” the Guild Complex’s performance-poetry incubator. A Mellon Mays Fellow\, Dawn is pursuing a Ph.D. with the University of Chicago’s Committee on Social Thought\, investigating the relationships between freedom and power\, ethics and politics. \nCoya Paz\nDenise Ruiz is a poet\, mother\, and agitator. Denise recently wrote and performed in Unnatural Spaces\, from the Guild Complex’s Poetry-Performance Incubator. She believes in real talk and cute clothes. \nCoya Paz is poet\, director\, and lip gloss connoisseur. She is the Lead Artist for the Poetry Performance Incubator at The Guld Complex\, a founding member of Proyecto Latina\, and a member of the artistic team at Free Street Theatre. She teaches in The Theatre School at DePaul University.
URL:https://guildcomplex.org/event/palabra-pura-4/
LOCATION:La Bruquena restaurant\, 2726 W. Division\, 2nd floor\, Select a Country:
CATEGORIES:Palabra Pura
END:VEVENT
END:VCALENDAR