BEGIN:VCALENDAR
VERSION:2.0
PRODID:-//Guild Literary Complex - ECPv6.15.20//NONSGML v1.0//EN
CALSCALE:GREGORIAN
METHOD:PUBLISH
X-ORIGINAL-URL:https://guildcomplex.org
X-WR-CALDESC:Events for Guild Literary Complex
REFRESH-INTERVAL;VALUE=DURATION:PT1H
X-Robots-Tag:noindex
X-PUBLISHED-TTL:PT1H
BEGIN:VTIMEZONE
TZID:America/Chicago
BEGIN:DAYLIGHT
TZOFFSETFROM:-0600
TZOFFSETTO:-0500
TZNAME:CDT
DTSTART:20120311T080000
END:DAYLIGHT
BEGIN:STANDARD
TZOFFSETFROM:-0500
TZOFFSETTO:-0600
TZNAME:CST
DTSTART:20121104T070000
END:STANDARD
BEGIN:DAYLIGHT
TZOFFSETFROM:-0600
TZOFFSETTO:-0500
TZNAME:CDT
DTSTART:20130310T080000
END:DAYLIGHT
BEGIN:STANDARD
TZOFFSETFROM:-0500
TZOFFSETTO:-0600
TZNAME:CST
DTSTART:20131103T070000
END:STANDARD
BEGIN:DAYLIGHT
TZOFFSETFROM:-0600
TZOFFSETTO:-0500
TZNAME:CDT
DTSTART:20140309T080000
END:DAYLIGHT
BEGIN:STANDARD
TZOFFSETFROM:-0500
TZOFFSETTO:-0600
TZNAME:CST
DTSTART:20141102T070000
END:STANDARD
END:VTIMEZONE
BEGIN:VEVENT
DTSTART;TZID=America/Chicago:20131120T193000
DTEND;TZID=America/Chicago:20131120T210000
DTSTAMP:20260422T054603
CREATED:20130204T172152Z
LAST-MODIFIED:20131113T183658Z
UID:1838-1384975800-1384981200@guildcomplex.org
SUMMARY:Palabra Pura: El Amor
DESCRIPTION:Our monthly bilingual poetry night returns to its usual destination: the always-fabulous La Bruquena! Join us for this final Palabra Pura of the year as multimedia artist Miquel Lopez Lemus presents a cantologia on love. Twenty-seven (!) Palabra Pura poets contributed a new poem on the theme for this published collection\, and many will be on hand to read for this special event. What’s more\, you can purchase the volume and take the love home. Physical copies will available at the reading\, and digital copies can be found at Amazon.com. All proceeds from book sales benefit Palabra Pura. \nCantologia I. is published by Pandora/lobo estepario Press and features the work of: Rosemary Aceves\, Lisa Alvarado\, Eduardo Arocho\, Beatriz Badikian-Gartler\, Xánath Caraza\, Cristina Correa\, Dinorah Cortes-Velez\, Jorge García de la Fe\, Juanita Goergen\, Silvia Goldman\, Mary Hawley\, Miguel Lopez Lemus\, Elizabeth Marino\, Rita Martinez-Puccio\, Miguel Marzana\, Zulema Moret\, Yolanda Nieves\, Diana Pando\, Jennifer Patino\, Johanny Vázquez Paz\, Peter Ramos\, Martha Cecilia Rivera\, Martin Rubio Jr.\, Beatriz Ruiz\, Xenia Ruiz\, Sandra Santiago\, Teresa Vázquez\, Emanuel Xavier.
URL:https://guildcomplex.org/event/palabra-pura-el-amor/
LOCATION:La Bruquena restaurant\, 2726 W. Division\, 2nd floor
CATEGORIES:Palabra Pura
END:VEVENT
END:VCALENDAR