BEGIN:VCALENDAR
VERSION:2.0
PRODID:-//Guild Literary Complex - ECPv6.15.20//NONSGML v1.0//EN
CALSCALE:GREGORIAN
METHOD:PUBLISH
X-ORIGINAL-URL:https://guildcomplex.org
X-WR-CALDESC:Events for Guild Literary Complex
REFRESH-INTERVAL;VALUE=DURATION:PT1H
X-Robots-Tag:noindex
X-PUBLISHED-TTL:PT1H
BEGIN:VTIMEZONE
TZID:America/Chicago
BEGIN:DAYLIGHT
TZOFFSETFROM:-0600
TZOFFSETTO:-0500
TZNAME:CDT
DTSTART:20130310T080000
END:DAYLIGHT
BEGIN:STANDARD
TZOFFSETFROM:-0500
TZOFFSETTO:-0600
TZNAME:CST
DTSTART:20131103T070000
END:STANDARD
BEGIN:DAYLIGHT
TZOFFSETFROM:-0600
TZOFFSETTO:-0500
TZNAME:CDT
DTSTART:20140309T080000
END:DAYLIGHT
BEGIN:STANDARD
TZOFFSETFROM:-0500
TZOFFSETTO:-0600
TZNAME:CST
DTSTART:20141102T070000
END:STANDARD
BEGIN:DAYLIGHT
TZOFFSETFROM:-0600
TZOFFSETTO:-0500
TZNAME:CDT
DTSTART:20150308T080000
END:DAYLIGHT
BEGIN:STANDARD
TZOFFSETFROM:-0500
TZOFFSETTO:-0600
TZNAME:CST
DTSTART:20151101T070000
END:STANDARD
END:VTIMEZONE
BEGIN:VEVENT
DTSTART;TZID=America/Chicago:20140115T193000
DTEND;TZID=America/Chicago:20140115T210000
DTSTAMP:20260422T025852
CREATED:20131220T194444Z
LAST-MODIFIED:20140115T172155Z
UID:2350-1389814200-1389819600@guildcomplex.org
SUMMARY:PALABRA PURA: “ONE POET / ONE POEM”
DESCRIPTION:The Guild Literary Complex is pleased to kick off the ninth season of PALABRA PURA with “One Poet / One Poem”. \n2014 guest curators reveal their plans and past readers share a poem during this annual party celebrating poetry (and fiction) in more than one tongue. Contributing authors include: \nRey Andújar  |  Beatriz Badikian  |  Alexander Bonner  |  Cristina Correa  |  Raúl Dorantes  |  Jorge García de la Fe  |  Juana Goergen  | Dawn Herrera Helphand  |  Kolin Jordan  |  Nora Leon  |  Mark Litwicki  |  Olivia Maciel  |  Maribel Mares  |  Jennifer Patiño  |  Martha Cecilia Rivera  |  Martin Rubio  |  Beatriz Ruiz  |  Denise Ruiz  |  Xenia Ruiz  |  Jacob Saenz  |  Erika Sánchez  |  Sandra Santiago  |  Rafael Franco Steeves  |  Luis Tubens  |  Johanny Vázquez Paz  |  om ulloa  |  Febronio Zatarain \nThere will be a buffet of delicious Puerto Rican food prepared by our generous hosts at La Bruquena\, and plenty of essential liquids at the cash bar. \nClick here to share on Facebook. \n*** \nPalabra Pura promotes literary expression in more than one tongue through a monthly bilingual poetry reading featuring Chicano and Latino artists. With an aim to foster dialogue through literature in Chicago and beyond\, each evening often pairs a local poet with a visiting writer along with an open mic to engage the interaction of diverse voices\, ideas\, and aesthetics. The readings are held the third Wednesday of every month (except August and December) \nPalabra Pura se enfoca en la expresion literaria en varios idiomas a traves de una serie de lecturas mensuales bilingues con artistas Chicanos y Latinos. Nuestra meta es promover el dialogo a traves de la literatura en Chicago y mas alla. Con este fin\, cado lectura combina un poeta local con uno invitado\, ademas de un open mic para cultivar la interaccion de voces\, ideas esteticas diversas. Las lecturas se ofrecen el tercer miercoles de cada mes (con excepcion de agosto y diciembre). \n 
URL:https://guildcomplex.org/event/palabra-pura-one-poet-one-poem-2014/
LOCATION:La Bruquena Restaurant\, 2726 W. Division\, Chicago
CATEGORIES:Palabra Pura
END:VEVENT
END:VCALENDAR