BEGIN:VCALENDAR
VERSION:2.0
PRODID:-//Guild Literary Complex - ECPv6.15.20//NONSGML v1.0//EN
CALSCALE:GREGORIAN
METHOD:PUBLISH
X-ORIGINAL-URL:https://guildcomplex.org
X-WR-CALDESC:Events for Guild Literary Complex
REFRESH-INTERVAL;VALUE=DURATION:PT1H
X-Robots-Tag:noindex
X-PUBLISHED-TTL:PT1H
BEGIN:VTIMEZONE
TZID:America/Chicago
BEGIN:DAYLIGHT
TZOFFSETFROM:-0600
TZOFFSETTO:-0500
TZNAME:CDT
DTSTART:20130310T080000
END:DAYLIGHT
BEGIN:STANDARD
TZOFFSETFROM:-0500
TZOFFSETTO:-0600
TZNAME:CST
DTSTART:20131103T070000
END:STANDARD
BEGIN:DAYLIGHT
TZOFFSETFROM:-0600
TZOFFSETTO:-0500
TZNAME:CDT
DTSTART:20140309T080000
END:DAYLIGHT
BEGIN:STANDARD
TZOFFSETFROM:-0500
TZOFFSETTO:-0600
TZNAME:CST
DTSTART:20141102T070000
END:STANDARD
BEGIN:DAYLIGHT
TZOFFSETFROM:-0600
TZOFFSETTO:-0500
TZNAME:CDT
DTSTART:20150308T080000
END:DAYLIGHT
BEGIN:STANDARD
TZOFFSETFROM:-0500
TZOFFSETTO:-0600
TZNAME:CST
DTSTART:20151101T070000
END:STANDARD
END:VTIMEZONE
BEGIN:VEVENT
DTSTART;TZID=America/Chicago:20140716T193000
DTEND;TZID=America/Chicago:20140716T213000
DTSTAMP:20260421T185012
CREATED:20140428T161815Z
LAST-MODIFIED:20140715T165756Z
UID:2601-1405539000-1405546200@guildcomplex.org
SUMMARY:Palabra Pura: Lost and Found
DESCRIPTION:Lost & Found: Letters\, Poems\, and Marginalia of Cross Cultural Experience \nThis evening\, Palabra Pura will travel to Mexico City\, Korea\, and Haiti via our writers to explore the Cross Cultural Experiences of a Dancer\, an Educator\, and a Poet. Curated by Maribel Mares. \nAbout the Artists\n \n  \nDarren Angle is a poet living in Chicago. His work has appeared in LIT and BOMB. He received degrees from Macalester College and Brown University\, where he won a Weston Fine Arts Award and was an Adele K. Seaver Fellow in Creative Writing. Darren will share poetry inspired by his time in Haiti along with a slideshow of photos. \n  \n  \n  \n  \n \n  \n  \nMayra Jimenez is a Mexican-American Educator living in Korea; a world traveler\, a connoisseur of cultures and human behavior; She is an educator as well as student striving for social justice. A collector of the five senses\, she loves cooking\, writing\, film\, and exploring the natural world. \n  \n  \n  \n  \n  \n \n  \nYesika Perez was born and raised in the Mexico City (Tenochtitlan). She began dancing the age of 5 years; she studied Dance at the National Institute of Fine arts (INBA) in Mexico City.  She is the owner of her own business in Chicago. Amongst other things\, she was bartender\, street sweeper\, and a vendor in a street market. A proud single mother\, a free spirit\, she acts as a stabilizer of emotions\, a healer to friends\, family\, and anyone she encounters! We find her this night in Chicago\, lost and found in her circling root system.  \n  \n  \n  \nAbout the Curator\nMaribel Mares is an author\, educator\, and organizer. She received her MFA from the School of the Art Institute of Chicago. She is a founding member of the Division Collective\, a salon series featuring emerging writers\, artists\, musicians\, architects\, designers\, and thinkers. She is also the co-creator of Kid City Chicago. She is a Latina Writer from the Southwest side of Chicago\, exploring the cultural and regional identity of Mexican American families.
URL:https://guildcomplex.org/event/palabra-pura-curated-by-maribel-mares/
LOCATION:La Bruquena restaurant (upstairs)\, 2726 W. Division\, Chicago\, IL\, United States
CATEGORIES:Palabra Pura
END:VEVENT
END:VCALENDAR