BEGIN:VCALENDAR
VERSION:2.0
PRODID:-//Guild Literary Complex - ECPv6.15.20//NONSGML v1.0//EN
CALSCALE:GREGORIAN
METHOD:PUBLISH
X-WR-CALNAME:Guild Literary Complex
X-ORIGINAL-URL:https://guildcomplex.org
X-WR-CALDESC:Events for Guild Literary Complex
REFRESH-INTERVAL;VALUE=DURATION:PT1H
X-Robots-Tag:noindex
X-PUBLISHED-TTL:PT1H
BEGIN:VTIMEZONE
TZID:America/Chicago
BEGIN:DAYLIGHT
TZOFFSETFROM:-0600
TZOFFSETTO:-0500
TZNAME:CDT
DTSTART:20140309T080000
END:DAYLIGHT
BEGIN:STANDARD
TZOFFSETFROM:-0500
TZOFFSETTO:-0600
TZNAME:CST
DTSTART:20141102T070000
END:STANDARD
BEGIN:DAYLIGHT
TZOFFSETFROM:-0600
TZOFFSETTO:-0500
TZNAME:CDT
DTSTART:20150308T080000
END:DAYLIGHT
BEGIN:STANDARD
TZOFFSETFROM:-0500
TZOFFSETTO:-0600
TZNAME:CST
DTSTART:20151101T070000
END:STANDARD
BEGIN:DAYLIGHT
TZOFFSETFROM:-0600
TZOFFSETTO:-0500
TZNAME:CDT
DTSTART:20160313T080000
END:DAYLIGHT
BEGIN:STANDARD
TZOFFSETFROM:-0500
TZOFFSETTO:-0600
TZNAME:CST
DTSTART:20161106T070000
END:STANDARD
END:VTIMEZONE
BEGIN:VEVENT
DTSTART;TZID=America/Chicago:20150121T193000
DTEND;TZID=America/Chicago:20150121T213000
DTSTAMP:20260421T105129
CREATED:20150116T220237Z
LAST-MODIFIED:20150120T155614Z
UID:2899-1421868600-1421875800@guildcomplex.org
SUMMARY:Palabra Pura: One Poet One Poem (Stories too!) 10 year anniversary kickoff party!
DESCRIPTION:The Guild Literary Complex is pleased to kick off the 10th season of PALABRA PURA with “One Poet / One Poem”. Don’t let the name fool you—there will be fiction stories too!2015 guest curators reveal their plans and past readers share a poem (or short story) during this annual party celebrating poetry and fiction in more than one tongue. Contributing authors include: \nEduardo Arocho | Emmanuel Ayala | Beatriz Badikian | Alex Bonner | Marta Collazo | Jan Peña Davis | Raúl Dorantes | Rafael Franco-Steeves | Stephanie Gentry-Fernández | Juana Goergen | Nora León | Mark Litwicki | Miguel López Lemus | Olivia Maciel | Elizabeth Marino | Miguel Marzana | Yolanda Nieves | Coya Paz | Mike Puican | Martha Cecilia Rivera | Luis Tubens | Febronio Zatarain | and more! \nThere will be plenty of essential liquids at the bar—and CAKE! \nThe event is free + donations are welcome! Oh\, and it’s a cash bar\, but the cake is on us. \nMore information at guildcomplex.org. \n\n Click here to RVSP/Share on Facebook.Due to the number of readers for the party\, there will be no open mic. The open mic will return in February. \n*** \nABOUT PALABRA PURA\nThe Guild’s night of poetry and community\, curated by and spotlighting Chicago’s most powerful voices in the Chicano and Latino communities. Palabra Pura takes place on the third Wednesday of every month (except August and December).
URL:https://guildcomplex.org/event/palabra-pura-one-poet-one-poem-stories-too-10-year-anniversary-kickoff-party/
LOCATION:La Bruquena Restaurant\, 2726 W. Division\, Chicago\, IL\, United States
CATEGORIES:Palabra Pura
END:VEVENT
END:VCALENDAR