BEGIN:VCALENDAR
VERSION:2.0
PRODID:-//Guild Literary Complex - ECPv6.15.20//NONSGML v1.0//EN
CALSCALE:GREGORIAN
METHOD:PUBLISH
X-ORIGINAL-URL:https://guildcomplex.org
X-WR-CALDESC:Events for Guild Literary Complex
REFRESH-INTERVAL;VALUE=DURATION:PT1H
X-Robots-Tag:noindex
X-PUBLISHED-TTL:PT1H
BEGIN:VTIMEZONE
TZID:America/Chicago
BEGIN:DAYLIGHT
TZOFFSETFROM:-0600
TZOFFSETTO:-0500
TZNAME:CDT
DTSTART:20140309T080000
END:DAYLIGHT
BEGIN:STANDARD
TZOFFSETFROM:-0500
TZOFFSETTO:-0600
TZNAME:CST
DTSTART:20141102T070000
END:STANDARD
BEGIN:DAYLIGHT
TZOFFSETFROM:-0600
TZOFFSETTO:-0500
TZNAME:CDT
DTSTART:20150308T080000
END:DAYLIGHT
BEGIN:STANDARD
TZOFFSETFROM:-0500
TZOFFSETTO:-0600
TZNAME:CST
DTSTART:20151101T070000
END:STANDARD
BEGIN:DAYLIGHT
TZOFFSETFROM:-0600
TZOFFSETTO:-0500
TZNAME:CDT
DTSTART:20160313T080000
END:DAYLIGHT
BEGIN:STANDARD
TZOFFSETFROM:-0500
TZOFFSETTO:-0600
TZNAME:CST
DTSTART:20161106T070000
END:STANDARD
END:VTIMEZONE
BEGIN:VEVENT
DTSTART;TZID=America/Chicago:20150715T193000
DTEND;TZID=America/Chicago:20150715T210000
DTSTAMP:20260421T030731
CREATED:20150528T190611Z
LAST-MODIFIED:20150528T190747Z
UID:3043-1436988600-1436994000@guildcomplex.org
SUMMARY:Palabra Pura: Latinidad-Who are we? Latino Poets on Identity
DESCRIPTION:For featured authors Diego Báez and Amy Sayre Baptista\, violence inhabits their lives and what they write about. This is a violence that divides our culture and us; this is a colonization of our identity as a man\, as a woman\, and as a Latina/o. What does it mean to be Latina/o? These poets sing compelling stories about the lives of men and women navigating a changing landscape of language\, culture\, and the physical body. Their passion is for the experiences of the unheard\, the misunderstood\, and the undervalued. They manifest political\, historical\, and secret stories with vehement compassion and grace. \nThis month’s program is coordinated by Ruben Quesada. \nAll “mother” tongues are welcome! Arrive early to sign up for the open mic. \nPalabra Pura is pay-what-you-can ($5 suggested donation). Audience contributions support honorariums for the curators and featured authors. \n  \nABOUT OUR FEATURED AUTHORS \nDiego Báez grew up in Bloomington\, Illinois\, and graduated with an MFA in Creative Writing from Rutgers University – Newark. An inaugural fellow at CantoMundo in 2010\, his poems\, fiction\, and reviews have appeared most recently at Ostrich\, The Acentos Review\, and The Los Angeles Review of Books. He lives in Chicago and teaches at the City Colleges. \n  \n  \nAmy Sayre Baptista’s writing has appeared in Alaska Quarterly Review\, Ninth Letter\, S’ouwester\, LUSO American Voices\, LUNA LUNA\, and Chicago Noir. She is a 2013 CantoMundo fellow\, a 2012 Pushcart Prize nominee\, and a 2011 scholarship recipient to the Disquiet Literary Festival in Lisbon\, Portugal. She has an MFA in Fiction from the University of Illinois Urbana-Champaign\, and lives in Chicago. \n  \n  \nABOUT THIS MONTH’S CURATOR \nRuben Quesada is the author of Next Extinct Mammal and Exiled from the Throne of Night. His writing appears in Guernica\, BOAAT PRESS\, Rattle\, The California Journal of Poetics\, American Poetry Review\, Cimarron Review\, Superstition Review\, and elsewhere. Find him on Twitter @rubenquesada. \n  \n  \n 
URL:https://guildcomplex.org/event/palabra-pura-latinidad/
LOCATION:La Bruquena Restaurant\, 2726 W. Division\, Chicago\, IL\, United States
CATEGORIES:Palabra Pura
END:VEVENT
END:VCALENDAR