BEGIN:VCALENDAR
VERSION:2.0
PRODID:-//Guild Literary Complex - ECPv6.15.20//NONSGML v1.0//EN
CALSCALE:GREGORIAN
METHOD:PUBLISH
X-WR-CALNAME:Guild Literary Complex
X-ORIGINAL-URL:https://guildcomplex.org
X-WR-CALDESC:Events for Guild Literary Complex
REFRESH-INTERVAL;VALUE=DURATION:PT1H
X-Robots-Tag:noindex
X-PUBLISHED-TTL:PT1H
BEGIN:VTIMEZONE
TZID:America/Chicago
BEGIN:DAYLIGHT
TZOFFSETFROM:-0600
TZOFFSETTO:-0500
TZNAME:CDT
DTSTART:20150308T080000
END:DAYLIGHT
BEGIN:STANDARD
TZOFFSETFROM:-0500
TZOFFSETTO:-0600
TZNAME:CST
DTSTART:20151101T070000
END:STANDARD
BEGIN:DAYLIGHT
TZOFFSETFROM:-0600
TZOFFSETTO:-0500
TZNAME:CDT
DTSTART:20160313T080000
END:DAYLIGHT
BEGIN:STANDARD
TZOFFSETFROM:-0500
TZOFFSETTO:-0600
TZNAME:CST
DTSTART:20161106T070000
END:STANDARD
BEGIN:DAYLIGHT
TZOFFSETFROM:-0600
TZOFFSETTO:-0500
TZNAME:CDT
DTSTART:20170312T080000
END:DAYLIGHT
BEGIN:STANDARD
TZOFFSETFROM:-0500
TZOFFSETTO:-0600
TZNAME:CST
DTSTART:20171105T070000
END:STANDARD
END:VTIMEZONE
BEGIN:VEVENT
DTSTART;TZID=America/Chicago:20160120T193000
DTEND;TZID=America/Chicago:20160120T210000
DTSTAMP:20260420T181232
CREATED:20160111T202120Z
LAST-MODIFIED:20160119T150455Z
UID:3501-1453318200-1453323600@guildcomplex.org
SUMMARY:Palabra Pura 2016 Season Kick Off ~ One Poet  / One Poem Returns
DESCRIPTION:  \nThe Guild Literary Complex is pleased to kick off the 11th season of PALABRA PURA returning with “One Poet / One Poem”.  Come join in the fun 11 years in the making. This year’s season will feature 2016 Guest Palabra Pura curators and past readers some telling of plans for the year ahead and others sharing a poem during this annual party celebrating poetry in more than one tongue. Contributing authors include: \nDarren Angle | Emmanuel Ayala | Diego Báez | Beatriz Badikian Gartler | Emilio Maldonado | Martha Cecilia Rivera | Miguel López Lemus | Mark Litwicki | Miguel Marzana | Elizabeth Marino | Yolanda Nieves | Fernando Olszanski | Jennifer Patiño Cervantes | Jan Peña Davis | Rubén Quesada | Luis Tubens | Febronio Zatarain | and many more! \nThe event is free + donations are welcome! Oh\, and it’s a cash bar\, so come with some green in your pockets. \nMore information at guildcomplex.org. \nClick here to RVSP/Share on Facebook. Due to the number of readers for the party\, there will be no open mic\, but he open mic will return in March! \n*** \nABOUT PALABRA PURA\nThe Guild’s night of poetry and community\, curated by and spotlighting Chicago’s most powerful voices in the Chicano and Latino communities. Palabra Pura takes place every other third Wednesday of every month starting in January of 2016 (we are Dark in  August and December).
URL:https://guildcomplex.org/event/palabra-pura-2016-season-kick-off-one-poet-one-poem-returns/
LOCATION:La Bruquena Restaurant\, 2726 W. Division\, Chicago\, IL\, United States
CATEGORIES:Palabra Pura
ORGANIZER;CN="Guild Literary Complex":MAILTO:info@guildcomplex.org
END:VEVENT
END:VCALENDAR