BEGIN:VCALENDAR
VERSION:2.0
PRODID:-//Guild Literary Complex - ECPv6.15.20//NONSGML v1.0//EN
CALSCALE:GREGORIAN
METHOD:PUBLISH
X-ORIGINAL-URL:https://guildcomplex.org
X-WR-CALDESC:Events for Guild Literary Complex
REFRESH-INTERVAL;VALUE=DURATION:PT1H
X-Robots-Tag:noindex
X-PUBLISHED-TTL:PT1H
BEGIN:VTIMEZONE
TZID:America/Chicago
BEGIN:DAYLIGHT
TZOFFSETFROM:-0600
TZOFFSETTO:-0500
TZNAME:CDT
DTSTART:20240310T080000
END:DAYLIGHT
BEGIN:STANDARD
TZOFFSETFROM:-0500
TZOFFSETTO:-0600
TZNAME:CST
DTSTART:20241103T070000
END:STANDARD
BEGIN:DAYLIGHT
TZOFFSETFROM:-0600
TZOFFSETTO:-0500
TZNAME:CDT
DTSTART:20250309T080000
END:DAYLIGHT
BEGIN:STANDARD
TZOFFSETFROM:-0500
TZOFFSETTO:-0600
TZNAME:CST
DTSTART:20251102T070000
END:STANDARD
BEGIN:DAYLIGHT
TZOFFSETFROM:-0600
TZOFFSETTO:-0500
TZNAME:CDT
DTSTART:20260308T080000
END:DAYLIGHT
BEGIN:STANDARD
TZOFFSETFROM:-0500
TZOFFSETTO:-0600
TZNAME:CST
DTSTART:20261101T070000
END:STANDARD
END:VTIMEZONE
BEGIN:VEVENT
DTSTART;TZID=America/Chicago:20250724T190000
DTEND;TZID=America/Chicago:20250724T210000
DTSTAMP:20260414T053109
CREATED:20250702T013251Z
LAST-MODIFIED:20250711T143620Z
UID:12429-1753383600-1753390800@guildcomplex.org
SUMMARY:Palabra Pura: One Poet\, One Poem
DESCRIPTION:Event Registration + Open Mic Sign-Up\n\n\n\n\n\n\n¡Anímate! The Guild Literary Complex is happy to announce that our annual Palabra Pura: One Poet\, One Poem tradition is coming this July. \n\n\n\nAll poets are welcome to perform a poem\, whether it be in English or Spanish\, or both. See old friends and meet new ones\, enjoy delicious Puerto Rican food and drinks\, and listen to some wonderful bilingual poetry. Registration is free. \n\n\n\n——————————————————- \n\n\n\nGuild Literary Complex presenta nuestra tradición y evento anual\, Palabra Pura: Un Poeta\, Un Poema este julio. \n\n\n\nTodas las poetas están bienvenidos a compartir un poema\, en inglés\, español\, o ambos. Encuentra amigos nuevos y viejos\, disfruta la comida puertorriqueña y bebidas y escucha poesía bilingüe. Registro gratis. \n\n\n\nMC: Mary Hawley
URL:https://guildcomplex.org/event/palabra-pura-one-poet-one-poem-4/
LOCATION:La Bruquena Restaurant\, 2726 W. Division\, Chicago\, IL\, 60622\, United States
CATEGORIES:Palabra Pura
ATTACH;FMTTYPE=image/png:https://guildcomplex.org/wp-content/uploads/2025/07/Palabra-Pura-1.png
END:VEVENT
END:VCALENDAR