BEGIN:VCALENDAR
VERSION:2.0
PRODID:-//Guild Literary Complex - ECPv6.15.20//NONSGML v1.0//EN
CALSCALE:GREGORIAN
METHOD:PUBLISH
X-ORIGINAL-URL:https://guildcomplex.org
X-WR-CALDESC:Events for Guild Literary Complex
REFRESH-INTERVAL;VALUE=DURATION:PT1H
X-Robots-Tag:noindex
X-PUBLISHED-TTL:PT1H
BEGIN:VTIMEZONE
TZID:America/Chicago
BEGIN:DAYLIGHT
TZOFFSETFROM:-0600
TZOFFSETTO:-0500
TZNAME:CDT
DTSTART:20120311T080000
END:DAYLIGHT
BEGIN:STANDARD
TZOFFSETFROM:-0500
TZOFFSETTO:-0600
TZNAME:CST
DTSTART:20121104T070000
END:STANDARD
BEGIN:DAYLIGHT
TZOFFSETFROM:-0600
TZOFFSETTO:-0500
TZNAME:CDT
DTSTART:20130310T080000
END:DAYLIGHT
BEGIN:STANDARD
TZOFFSETFROM:-0500
TZOFFSETTO:-0600
TZNAME:CST
DTSTART:20131103T070000
END:STANDARD
BEGIN:DAYLIGHT
TZOFFSETFROM:-0600
TZOFFSETTO:-0500
TZNAME:CDT
DTSTART:20140309T080000
END:DAYLIGHT
BEGIN:STANDARD
TZOFFSETFROM:-0500
TZOFFSETTO:-0600
TZNAME:CST
DTSTART:20141102T070000
END:STANDARD
END:VTIMEZONE
BEGIN:VEVENT
DTSTART;TZID=America/Chicago:20130405T190000
DTEND;TZID=America/Chicago:20130407T170000
DTSTAMP:20260424T025233
CREATED:20130117T153741Z
LAST-MODIFIED:20130401T161001Z
UID:1791-1365188400-1365354000@guildcomplex.org
SUMMARY:Poetry Performance Incubator: "Tour Guides"
DESCRIPTION:  \nBeverly Arts Center\nThe Guild Literary Complex is pleased to announce the 2013 remount of “Tour Guides”. Produced in 2010 as part of the Poetry Performance Incubator\, “Tour Guides”\, gives audiences a lyrical tour of the Chicago tourists never see. Originally written by a team of six\, “Tour Guides” has had twelve distinct voices take part in its development since 2010. Restaged at the Beverly Arts Center by noted director Coya Paz (Teatro Luna\, Proyecto Latina\, The Americans)\, “Tour Guides” is an insider’s peek at life in Chicago. From a haunting tour of the city’s “ghost bikes” to a hilarious look at the way neighborhood cultures shape how men pick up women\, to an honest analysis of whether to invite white friends to Southside restaurants\, “Tour Guides” offers an unflinching look at Chicago’s complex cultural landscape. \n“Tour Guides” will be at The Beverly Art Center\, 2407 W 111th St\, on Friday April 5 and Saturday April 6\, 2013 at 7:30 pm and Sunday April 7 at 3:30 pm. Tickets are $16/$13 for BAC members. For additional details\, visit guildcomplex.org. \nCoya Paz\nCoya Paz is poet\, director\, and lip gloss connoisseur. She is the Lead Artist for the Poetry Performance Incubator at The Guild Complex\, a founding member of Proyecto Latina\, and a member of the artistic team at Free Street Theatre. She teaches in The Theatre School at DePaul University.
URL:https://guildcomplex.org/event/poetry-performance-incubator-tour-guides/
LOCATION:Beverly Arts Center\, 2407 West 111th Street
CATEGORIES:Poetry Performance Incubator
END:VEVENT
END:VCALENDAR