BEGIN:VCALENDAR
VERSION:2.0
PRODID:-//Guild Literary Complex - ECPv6.15.20//NONSGML v1.0//EN
CALSCALE:GREGORIAN
METHOD:PUBLISH
X-WR-CALNAME:Guild Literary Complex
X-ORIGINAL-URL:https://guildcomplex.org
X-WR-CALDESC:Events for Guild Literary Complex
REFRESH-INTERVAL;VALUE=DURATION:PT1H
X-Robots-Tag:noindex
X-PUBLISHED-TTL:PT1H
BEGIN:VTIMEZONE
TZID:America/Chicago
BEGIN:DAYLIGHT
TZOFFSETFROM:-0600
TZOFFSETTO:-0500
TZNAME:CDT
DTSTART:20120311T080000
END:DAYLIGHT
BEGIN:STANDARD
TZOFFSETFROM:-0500
TZOFFSETTO:-0600
TZNAME:CST
DTSTART:20121104T070000
END:STANDARD
BEGIN:DAYLIGHT
TZOFFSETFROM:-0600
TZOFFSETTO:-0500
TZNAME:CDT
DTSTART:20130310T080000
END:DAYLIGHT
BEGIN:STANDARD
TZOFFSETFROM:-0500
TZOFFSETTO:-0600
TZNAME:CST
DTSTART:20131103T070000
END:STANDARD
BEGIN:DAYLIGHT
TZOFFSETFROM:-0600
TZOFFSETTO:-0500
TZNAME:CDT
DTSTART:20140309T080000
END:DAYLIGHT
BEGIN:STANDARD
TZOFFSETFROM:-0500
TZOFFSETTO:-0600
TZNAME:CST
DTSTART:20141102T070000
END:STANDARD
END:VTIMEZONE
BEGIN:VEVENT
DTSTART;TZID=America/Chicago:20131101T190000
DTEND;TZID=America/Chicago:20131101T203000
DTSTAMP:20260423T163322
CREATED:20130918T224028Z
LAST-MODIFIED:20131004T181133Z
UID:2168-1383332400-1383337800@guildcomplex.org
SUMMARY:Poetry Performance Incubator: Like Bread
DESCRIPTION:Join us for an in-progress performance of the brand new Poetry Performance Incubator production\, Like Bread. Inspired by the Roque Dalton poem “Like You\,” Like Bread will explore the relationship between writing and social struggles\, the way that writing can transform a life\, and how challenging (but joyful) it can be to claim oneself “a writer.” We are so pleased to again be collaborating with noted director Coya Paz on this new production. More details to come. \n 
URL:https://guildcomplex.org/event/poetry-performance-incubator-like-bread/
LOCATION:Free Street Theater\, 1419 W Blackhawk St
CATEGORIES:Poetry Performance Incubator
END:VEVENT
BEGIN:VEVENT
DTSTART;TZID=America/Chicago:20131102T140000
DTEND;TZID=America/Chicago:20131102T153000
DTSTAMP:20260423T163322
CREATED:20130918T224129Z
LAST-MODIFIED:20131004T181101Z
UID:2170-1383400800-1383406200@guildcomplex.org
SUMMARY:Poetry Performance Incubator: Like Bread
DESCRIPTION:Join us for an in-progress performance of the brand new Poetry Performance Incubator production\, Like Bread. Inspired by the Roque Dalton poem “Like You\,” Like Bread will explore the relationship between writing and social struggles\, the way that writing can transform a life\, and how challenging (but joyful) it can be to claim oneself “a writer.” We are so pleased to again be collaborating with noted director Coya Paz on this new production. More details to come.
URL:https://guildcomplex.org/event/poetry-performance-incubator-like-bread-2/
LOCATION:Free Street Theater\, 1419 W Blackhawk St
CATEGORIES:Poetry Performance Incubator
END:VEVENT
END:VCALENDAR