BEGIN:VCALENDAR
VERSION:2.0
PRODID:-//Guild Literary Complex - ECPv6.15.20//NONSGML v1.0//EN
CALSCALE:GREGORIAN
METHOD:PUBLISH
X-WR-CALNAME:Guild Literary Complex
X-ORIGINAL-URL:https://guildcomplex.org
X-WR-CALDESC:Events for Guild Literary Complex
REFRESH-INTERVAL;VALUE=DURATION:PT1H
X-Robots-Tag:noindex
X-PUBLISHED-TTL:PT1H
BEGIN:VTIMEZONE
TZID:America/Chicago
BEGIN:DAYLIGHT
TZOFFSETFROM:-0600
TZOFFSETTO:-0500
TZNAME:CDT
DTSTART:20250309T080000
END:DAYLIGHT
BEGIN:STANDARD
TZOFFSETFROM:-0500
TZOFFSETTO:-0600
TZNAME:CST
DTSTART:20251102T070000
END:STANDARD
BEGIN:DAYLIGHT
TZOFFSETFROM:-0600
TZOFFSETTO:-0500
TZNAME:CDT
DTSTART:20260308T080000
END:DAYLIGHT
BEGIN:STANDARD
TZOFFSETFROM:-0500
TZOFFSETTO:-0600
TZNAME:CST
DTSTART:20261101T070000
END:STANDARD
BEGIN:DAYLIGHT
TZOFFSETFROM:-0600
TZOFFSETTO:-0500
TZNAME:CDT
DTSTART:20270314T080000
END:DAYLIGHT
BEGIN:STANDARD
TZOFFSETFROM:-0500
TZOFFSETTO:-0600
TZNAME:CST
DTSTART:20271107T070000
END:STANDARD
END:VTIMEZONE
BEGIN:VEVENT
DTSTART;TZID=America/Chicago:20260426T190000
DTEND;TZID=America/Chicago:20260426T210000
DTSTAMP:20260418T075334
CREATED:20260410T192742Z
LAST-MODIFIED:20260415T211602Z
UID:15041-1777230000-1777237200@guildcomplex.org
SUMMARY:Write That Down! Show & Tell
DESCRIPTION:Write That Down! Mag invites you to “Show & Tell” presented by Chicago’s Guild Literary Complex.\n\n\n\n\nWrite That Down! is back with a special edition of our Show & Tell series in tandem with Promise(d)\, the first exhibition curated by Teddy Sandler at Evoke Gallery. This group show explores destiny and manifests a collective dream through visualizations of growth in times of decay. \nSHOW a keepsake that’s dear to you\, a favorite bit of junk\, or a cute knick knack; then TELL a story about your artifact and why it’s important to you. BYOB. \n\n\nThe evening will begin with an open mic and archiving session\, followed by selected readings from past (and future) mag contributors. Attendees are encouraged to bring ephemera and memorabilia that they would like scanned/archived for inclusion in the magazine’s upcoming Summer/Winter issue. \nAbout Write That Down! \nWrite That Down! is an archival project and magazine capturing the particulars of our current moment\, both here in Chicago and in the world at large. The goal is to gather everyday artifacts that tell stories about what is important to us and our communities. There is no memento too big or local story too small for these pages. If it matters to you\, write it down! \n 
URL:https://guildcomplex.org/event/wtd4/
LOCATION:Evoke Gallery\, 3040 N Central Ave\, Chicago\, IL\, 60634\, United States
CATEGORIES:Press Room
ATTACH;FMTTYPE=image/png:https://guildcomplex.org/wp-content/uploads/2026/04/Eventbrite-Banner-WTD-Show-Tell-4.26.26-1.png
END:VEVENT
END:VCALENDAR