BEGIN:VCALENDAR
VERSION:2.0
PRODID:-//Guild Literary Complex - ECPv6.15.20//NONSGML v1.0//EN
CALSCALE:GREGORIAN
METHOD:PUBLISH
X-ORIGINAL-URL:https://guildcomplex.org
X-WR-CALDESC:Events for Guild Literary Complex
REFRESH-INTERVAL;VALUE=DURATION:PT1H
X-Robots-Tag:noindex
X-PUBLISHED-TTL:PT1H
BEGIN:VTIMEZONE
TZID:America/Chicago
BEGIN:DAYLIGHT
TZOFFSETFROM:-0600
TZOFFSETTO:-0500
TZNAME:CDT
DTSTART:20130310T080000
END:DAYLIGHT
BEGIN:STANDARD
TZOFFSETFROM:-0500
TZOFFSETTO:-0600
TZNAME:CST
DTSTART:20131103T070000
END:STANDARD
BEGIN:DAYLIGHT
TZOFFSETFROM:-0600
TZOFFSETTO:-0500
TZNAME:CDT
DTSTART:20140309T080000
END:DAYLIGHT
BEGIN:STANDARD
TZOFFSETFROM:-0500
TZOFFSETTO:-0600
TZNAME:CST
DTSTART:20141102T070000
END:STANDARD
BEGIN:DAYLIGHT
TZOFFSETFROM:-0600
TZOFFSETTO:-0500
TZNAME:CDT
DTSTART:20150308T080000
END:DAYLIGHT
BEGIN:STANDARD
TZOFFSETFROM:-0500
TZOFFSETTO:-0600
TZNAME:CST
DTSTART:20151101T070000
END:STANDARD
END:VTIMEZONE
BEGIN:VEVENT
DTSTART;TZID=America/Chicago:20141113T180000
DTEND;TZID=America/Chicago:20141113T210000
DTSTAMP:20260425T144710
CREATED:20141007T164810Z
LAST-MODIFIED:20141101T204248Z
UID:2817-1415901600-1415912400@guildcomplex.org
SUMMARY:TONIC
DESCRIPTION:The Guild’s “good for you” year-end party has returned! This year\, after much celebration of our 25th anniversary\, we look forward to the future. We plan to celebrate with music\, libation\, and the best company in Chicago: YOU. \nAlso\, a very special guest will be joining us: Marcel Proust. Best known for his recollections of the past\, Mr. Proust is now a fortune-teller. And he will be on hand to cheerfully prognosticate what’s around the corner for any who seek a glimpse of the future. \nTickets include a light buffet and open bar with well drinks\, domestic beer\, and soda\, plus Maker’s Mark bourbon as long as the bottles last. There will be door prizes and—per Proust’s request—COOKIES! \nTickets are $30 in advance and $40 at the door; $5 discount for students. This event is 21+. \nAll proceeds benefit your Guild Literary Complex. Click here for tickets\, or use the “Buy tickets” button below.\n \nABOUT OUR SPECIAL GUEST \nMarcel Proust is a French novelist (born July 10\, 1871)\, best known as the author of the seven-volume novel À la recherche du temps perdu (In Search of Lost Time). He is currently on tour as a fortune teller and motivational speaker. TONIC is his only Midwest stop. \n  \n  \n  \nPhotos from last year’s TONIC! \n \n  \n  \n  \n  \n 
URL:https://guildcomplex.org/event/tonic2014/
LOCATION:Beauty Bar\, 1444 W. Chicago Ave\, Chicago\, IL\, 60642\, United States
CATEGORIES:Special Events
END:VEVENT
END:VCALENDAR