BEGIN:VCALENDAR
VERSION:2.0
PRODID:-//Guild Literary Complex - ECPv6.15.20//NONSGML v1.0//EN
CALSCALE:GREGORIAN
METHOD:PUBLISH
X-WR-CALNAME:Guild Literary Complex
X-ORIGINAL-URL:https://guildcomplex.org
X-WR-CALDESC:Events for Guild Literary Complex
REFRESH-INTERVAL;VALUE=DURATION:PT1H
X-Robots-Tag:noindex
X-PUBLISHED-TTL:PT1H
BEGIN:VTIMEZONE
TZID:America/Chicago
BEGIN:DAYLIGHT
TZOFFSETFROM:-0600
TZOFFSETTO:-0500
TZNAME:CDT
DTSTART:20250309T080000
END:DAYLIGHT
BEGIN:STANDARD
TZOFFSETFROM:-0500
TZOFFSETTO:-0600
TZNAME:CST
DTSTART:20251102T070000
END:STANDARD
BEGIN:DAYLIGHT
TZOFFSETFROM:-0600
TZOFFSETTO:-0500
TZNAME:CDT
DTSTART:20260308T080000
END:DAYLIGHT
BEGIN:STANDARD
TZOFFSETFROM:-0500
TZOFFSETTO:-0600
TZNAME:CST
DTSTART:20261101T070000
END:STANDARD
BEGIN:DAYLIGHT
TZOFFSETFROM:-0600
TZOFFSETTO:-0500
TZNAME:CDT
DTSTART:20270314T080000
END:DAYLIGHT
BEGIN:STANDARD
TZOFFSETFROM:-0500
TZOFFSETTO:-0600
TZNAME:CST
DTSTART:20271107T070000
END:STANDARD
END:VTIMEZONE
BEGIN:VEVENT
DTSTART;TZID=America/Chicago:20260430T190000
DTEND;TZID=America/Chicago:20260430T210000
DTSTAMP:20260417T060747
CREATED:20260325T052803Z
LAST-MODIFIED:20260416T223206Z
UID:14775-1777575600-1777582800@guildcomplex.org
SUMMARY:35 Writers to Watch: Celebration Party
DESCRIPTION:The Guild Complex’s 35 Writers to Watch list celebrates the Guild’s 35+ years of innovative programming by featuring local writers whose careers represent the future of the literary arts in Chicago\, and whose work reflects the spirit and values of the Guild Complex today. Names were put forth by our folks from our diverse literary network of writers and organizers from across Chicago’s geographies and communities (and beyond). \nJoin us in the Catacombs at Epiphany Center for the Arts for an exciting party and social to celebrate these authors\, enjoy music\, refreshments\, fellowship\, and the opportunity to rub elbows with emerging literary icons you’ll be proud to say you knew when. \nPurchase tickets (required) here.
URL:https://guildcomplex.org/event/35-writers-to-watch/
LOCATION:Epiphany Center for the Arts\, 201 South Ashland Ave.\, Chicago\, IL\, 60647\, United States
CATEGORIES:Writers to Watch
ATTACH;FMTTYPE=image/png:https://guildcomplex.org/wp-content/uploads/2026/03/35-W2W-Banner-2.png
END:VEVENT
END:VCALENDAR