BEGIN:VCALENDAR
VERSION:2.0
PRODID:-//Guild Literary Complex - ECPv6.15.20//NONSGML v1.0//EN
CALSCALE:GREGORIAN
METHOD:PUBLISH
X-WR-CALNAME:Guild Literary Complex
X-ORIGINAL-URL:https://guildcomplex.org
X-WR-CALDESC:Events for Guild Literary Complex
REFRESH-INTERVAL;VALUE=DURATION:PT1H
X-Robots-Tag:noindex
X-PUBLISHED-TTL:PT1H
BEGIN:VTIMEZONE
TZID:America/Chicago
BEGIN:DAYLIGHT
TZOFFSETFROM:-0600
TZOFFSETTO:-0500
TZNAME:CDT
DTSTART:20240310T080000
END:DAYLIGHT
BEGIN:STANDARD
TZOFFSETFROM:-0500
TZOFFSETTO:-0600
TZNAME:CST
DTSTART:20241103T070000
END:STANDARD
BEGIN:DAYLIGHT
TZOFFSETFROM:-0600
TZOFFSETTO:-0500
TZNAME:CDT
DTSTART:20250309T080000
END:DAYLIGHT
BEGIN:STANDARD
TZOFFSETFROM:-0500
TZOFFSETTO:-0600
TZNAME:CST
DTSTART:20251102T070000
END:STANDARD
BEGIN:DAYLIGHT
TZOFFSETFROM:-0600
TZOFFSETTO:-0500
TZNAME:CDT
DTSTART:20260308T080000
END:DAYLIGHT
BEGIN:STANDARD
TZOFFSETFROM:-0500
TZOFFSETTO:-0600
TZNAME:CST
DTSTART:20261101T070000
END:STANDARD
END:VTIMEZONE
BEGIN:VEVENT
DTSTART;TZID=America/Chicago:20251101T173000
DTEND;TZID=America/Chicago:20251101T190000
DTSTAMP:20260421T172401
CREATED:20260327T072052Z
LAST-MODIFIED:20260327T072052Z
UID:15018-1762018200-1762023600@guildcomplex.org
SUMMARY:Red Line: Chicago Horror Stories
DESCRIPTION:Join us on Halloween weekend for a presentation of the new anthology by From Beyond Press\, Red Line: Chicago Horror Stories. Contributors Jotham Austin II\, Bendi Barrett\, Tina Jenkins Bell\, Priya Chand\, Aleco Julius\, Sahar Mustafah\, and K.A. Roy join the Guild Literary Complex for a reading and signing at Experimental Station. \n\nAbout the Anthology\nThe Second City is second to none when it comes to terror.\nFrom H.H. Holmes\, America’s first serial killer\, to the Jane Byrne Interchange at rush hour\, there’s an ill wind blowing through the Windy City. In this new anthology\, twenty stories by twenty authors from the Chicago area take you on a bloodcurdling tour of the best city in the world. Featuring new stories by Jotham Austin II\, Bendi Barrett\, Tina Jenkins Bell\, Priya Chand\, TJ Cimfel\, R.L. Gehringer\, Christopher Hawkins\, Sandra Jackson-Opoku\, Aleco Julius\, Nick Medina\, Jen Mierisch\, Sahar Mustafah\, Cynthia Pelayo\, K.A. Roy\, K. Saab\, C.J. Subko\, Theodore C. Van Alst Jr.\, and Lauren Emily Whalen. \n10% of sales will be donated to Brave Space Alliance\, a south side Chicago center that provides services\, programs\, and an affirming space where trans and LGBQ+ people are centered.
URL:https://guildcomplex.org/event/red-line-chicago-horror-stories/
LOCATION:Experimental Station\, 6100 S. Blackstone (take Dorchester to 61st street then head east; free street and lot parking)\, Chicago\, IL\, United States
CATEGORIES:Special Events
ATTACH;FMTTYPE=image/jpeg:https://guildcomplex.org/wp-content/uploads/2026/03/guild-complex-flyer.jpg
END:VEVENT
BEGIN:VEVENT
DTSTART;TZID=America/Chicago:20251102T190000
DTEND;TZID=America/Chicago:20251102T210000
DTSTAMP:20260421T172401
CREATED:20260327T054920Z
LAST-MODIFIED:20260327T060132Z
UID:14962-1762110000-1762117200@guildcomplex.org
SUMMARY:Write That Down! Show & Tell
DESCRIPTION:Write That Down! invites you to our first “Show and Tell” presented by Chicago’s Guild Literary Complex. SHOW a keepsake that’s dear to you\, a favorite bit of junk\, or a cute knick knack; then TELL a story about your artifact and why it’s important to you. \nThe evening will begin with an open mic and archiving session\, followed by selected readings from past (and future) mag contributors. Attendees are encouraged to bring ephemera and memorabilia that they would like scanned/archived for inclusion in the magazine’s upcoming Autumn/Winter issue. \n\nAbout Write That Down!\nWrite That Down! is an archival project and magazine capturing the particulars of our current moment\, both here in Chicago and in the world at large. The goal is to gather everyday artifacts that tell stories about what is important to us and our communities. There is no memento too big or local story too small for these pages. If it matters to you\, write it down!
URL:https://guildcomplex.org/event/wtd1/
LOCATION:Podlasie Club\, 2918 N Central Park Ave.\, Chicago\, Illinois\, 60618
CATEGORIES:Press Room
ATTACH;FMTTYPE=image/jpeg:https://guildcomplex.org/wp-content/uploads/2026/03/11.2_WTD-Invite-Poster-scaled.jpeg
END:VEVENT
BEGIN:VEVENT
DTSTART;TZID=America/Chicago:20251112T183000
DTEND;TZID=America/Chicago:20251112T210000
DTSTAMP:20260421T172401
CREATED:20260327T062200Z
LAST-MODIFIED:20260327T062516Z
UID:14982-1762972200-1762981200@guildcomplex.org
SUMMARY:¡Slam Diáspora en Vivo!
DESCRIPTION:The first and only Spanish language slam in Chicago returns in-person! Participants have a chance to win a trip to a Latin American country (TBD) to compete in the international slam. Hosted and curated by Crystal Vance Guerra and Luis Tubens “Logan Lu.” \nOpen to poets of all styles and ages! From anyone who is just starting\, to anyone who has been writing for decades\, are all welcome to participate. \nRequirements:\nSlam– 2 poems in Spanish/Spanglish\nOpen Mic– Any genre of performance art in any language! \nWe believe that poetry pertains to everyone\, and that all of us carry it within us. This slam is to experiment\, play\, and to let the words flow. \nRemember: the point is not the points\, the point is the community. We want to nurture a poetic community\, and invite new people to participate as audience members\, as poets\, and as spoken-word lovers.\nSlam Diáspora is the first Spanish slam in the U.S. and aims to create a space that unites Latinx poets in the US with poets in Latin America\, to form a poetry community despite borders. Participants and winners from last year can participate again! \n\n¡Abierto a poetas de todos estilos y edades! Desde quien apenas esta empezando a escribir\, a quienes llevan décadas escribiendo– todos están bienvenidos a participar. \nRequisitos:\nSlam– Dos poemas (en español/spanglish)\nOpen Mic– Música/Poesía/Cuento etc\, en cualquier idioma \nCreemos que la poesía le pertenece a todxs\, y que todxs traemos poesía adentro. Este Slam es para experimentar\, jugar\, y dejar que la palabra fluya. \nRecuerden: el punto no son los puntos\, sino la comuna. Queremos crecer como comunidad poética\, e invitar a nuevas personas a participar como audiencia\, cómo poetas\, y cómo amantes de la palabra viva.\nSlam Diáspora es el primer slam de poesía en español de los EEUU y busca crear un espacio que une\npoetas Latinx en los EEUU con poetas en Latinoamérica para fomentar una comunidad poética a pesar de las fronteras. ¡Participantes y ganadores del año pasado pueden participar de nuevo!
URL:https://guildcomplex.org/event/slam-diaspora-2025-3/
LOCATION:Taqueria El Mezquite\, 1756 W 18th St\, Chicago\, Illinois\, 60608\, United States
CATEGORIES:Partner Event,Slam Diáspora
ATTACH;FMTTYPE=image/png:https://guildcomplex.org/wp-content/uploads/2026/03/Untitled-design-scaled.png
END:VEVENT
END:VCALENDAR