BEGIN:VCALENDAR
VERSION:2.0
PRODID:-//Guild Literary Complex - ECPv6.15.20//NONSGML v1.0//EN
CALSCALE:GREGORIAN
METHOD:PUBLISH
X-ORIGINAL-URL:https://guildcomplex.org
X-WR-CALDESC:Events for Guild Literary Complex
REFRESH-INTERVAL;VALUE=DURATION:PT1H
X-Robots-Tag:noindex
X-PUBLISHED-TTL:PT1H
BEGIN:VTIMEZONE
TZID:America/Chicago
BEGIN:DAYLIGHT
TZOFFSETFROM:-0600
TZOFFSETTO:-0500
TZNAME:CDT
DTSTART:20250309T080000
END:DAYLIGHT
BEGIN:STANDARD
TZOFFSETFROM:-0500
TZOFFSETTO:-0600
TZNAME:CST
DTSTART:20251102T070000
END:STANDARD
BEGIN:DAYLIGHT
TZOFFSETFROM:-0600
TZOFFSETTO:-0500
TZNAME:CDT
DTSTART:20260308T080000
END:DAYLIGHT
BEGIN:STANDARD
TZOFFSETFROM:-0500
TZOFFSETTO:-0600
TZNAME:CST
DTSTART:20261101T070000
END:STANDARD
BEGIN:DAYLIGHT
TZOFFSETFROM:-0600
TZOFFSETTO:-0500
TZNAME:CDT
DTSTART:20270314T080000
END:DAYLIGHT
BEGIN:STANDARD
TZOFFSETFROM:-0500
TZOFFSETTO:-0600
TZNAME:CST
DTSTART:20271107T070000
END:STANDARD
END:VTIMEZONE
BEGIN:VEVENT
DTSTART;TZID=America/Chicago:20260318T190000
DTEND;TZID=America/Chicago:20260318T220000
DTSTAMP:20260423T073442
CREATED:20260303T230243Z
LAST-MODIFIED:20260327T054959Z
UID:13661-1773860400-1773871200@guildcomplex.org
SUMMARY:Palabra Pura
DESCRIPTION:Poetry open mic hosted by Diego Báez. Featuring performances by Angelica Julia Dávila\, Loren Maria Guay\, and Yazud E. Brito-Milian.\n\n\nPalabra Pura is a bilingual reading series that promotes literary expression in Spanish\, English\, and/or other languages. Launched in 2006\, the series celebrates the work of Latinx writers in Chicago and beyond\, and provides a space for the interaction of diverse voices\, ideas\, and aesthetics. \n—————————————————————————- \nPalabra Pura es una serie de lecturas bilingües que promueve la expresión literaria en español\, inglés y otros idiomas. Lanzada en 2006\, la serie celebra la obra de escritores latinx dentro y fuera de Chicago\, y provee un espacio para la interacción de voces\, ideas y estéticas diversas.
URL:https://guildcomplex.org/event/palabra-pura-9/
LOCATION:18th Street Casa de Cultura\, 2057 West 18th Street\, Chicago\, IL\, 60608\, United States
CATEGORIES:Palabra Pura
ATTACH;FMTTYPE=image/png:https://guildcomplex.org/wp-content/uploads/2026/03/Eventbrite-Banner-Palabra-Pura-03.18.2026.png
END:VEVENT
BEGIN:VEVENT
DTSTART;TZID=America/Chicago:20260321T150000
DTEND;TZID=America/Chicago:20260321T163000
DTSTAMP:20260423T073442
CREATED:20260315T070422Z
LAST-MODIFIED:20260327T055051Z
UID:13927-1774105200-1774110600@guildcomplex.org
SUMMARY:Digital Archives of the Unseen: Artist Talk
DESCRIPTION:Artist Talk: Memory\, Erasure\, and the Living Archive\n\n\nInterdisciplinary\, interdimensional artist\, writer\, and ritual maker Faylita Hicks joins Walls Turned Sideways Gallery\, a nationally recognized space centering art\, justice\, and incarceration\, co-sponsored by the Guild Literary Complex\, for an artist talk on memory\, erasure\, and the politics of archiving. \nDrawing from Digital Archives of the Unseen\, Hicks discusses poetry as archival technology and the use of found digital media\, obsolete devices\, and ritual practice to examine surveillance\, disappearance\, testimony\, and collective remembrance. The talk explores how personal and communal memory is preserved\, distorted\, or erased—particularly through systems of incarceration and state power. \nThis conversation offers critical and historical context for the exhibition while inviting audiences to consider how archives live\, fail\, and resist.
URL:https://guildcomplex.org/event/digital-archives-of-the-unseen-artist-talk/
LOCATION:Walls Turned Sideways\, 2717 West Madison Street\, Chicago\, IL\, 60612\, United States
CATEGORIES:Special Events
ATTACH;FMTTYPE=image/png:https://guildcomplex.org/wp-content/uploads/2026/03/Eventbrite-Banner-Walls-Turned-Sideways-03.21.2026-1.png
END:VEVENT
BEGIN:VEVENT
DTSTART;TZID=America/Chicago:20260328T190000
DTEND;TZID=America/Chicago:20260328T220000
DTSTAMP:20260423T073442
CREATED:20260319T174328Z
LAST-MODIFIED:20260327T055129Z
UID:14325-1774724400-1774735200@guildcomplex.org
SUMMARY:Write That Down! Autumn/Winter Launch Party
DESCRIPTION:Write That Down! Mag is back with their new Autumn/Winter Issue and we want to celebrate with you!\n\n\nRSVP ON PARTYCLICK \nWrite That Down! is an archival project capturing the particulars of our current moment\, both here in Chicago and in the world at large. The goal is to gather everyday artifacts that tell stories about what is important to us and our communities. There is no memento too big or local story too small for these pages. If it matters to you\, write it down. \nCome through\, pregame\, and get a free copy of the mag 🙂 \nThis party is taking place in a 3rd floor walk-up. \nPlease respect the space and BYOB. \n  \nCONGRATS to co-founder/editor of Write That Down! Magazine\, Charlie Kolodziej\, named one of the 35 Writers to Watch. Join the Guild Complex in celebrating the writers at our special event next month.
URL:https://guildcomplex.org/event/write-that-down-autumn-winter-launch-party/
LOCATION:1902 N Milwaukee Ave\, 1902 North Milwaukee Avenue\, Chicago\, IL\, 60647\, United States
CATEGORIES:Press Room
ATTACH;FMTTYPE=image/png:https://guildcomplex.org/wp-content/uploads/2026/03/Eventbrite-Banner-WTD-Mag-Launch-3.28.2026.png
END:VEVENT
END:VCALENDAR