BEGIN:VCALENDAR
VERSION:2.0
PRODID:-//Guild Literary Complex - ECPv6.15.20//NONSGML v1.0//EN
CALSCALE:GREGORIAN
METHOD:PUBLISH
X-ORIGINAL-URL:https://guildcomplex.org
X-WR-CALDESC:Events for Guild Literary Complex
REFRESH-INTERVAL;VALUE=DURATION:PT1H
X-Robots-Tag:noindex
X-PUBLISHED-TTL:PT1H
BEGIN:VTIMEZONE
TZID:America/Chicago
BEGIN:DAYLIGHT
TZOFFSETFROM:-0600
TZOFFSETTO:-0500
TZNAME:CDT
DTSTART:20250309T080000
END:DAYLIGHT
BEGIN:STANDARD
TZOFFSETFROM:-0500
TZOFFSETTO:-0600
TZNAME:CST
DTSTART:20251102T070000
END:STANDARD
BEGIN:DAYLIGHT
TZOFFSETFROM:-0600
TZOFFSETTO:-0500
TZNAME:CDT
DTSTART:20260308T080000
END:DAYLIGHT
BEGIN:STANDARD
TZOFFSETFROM:-0500
TZOFFSETTO:-0600
TZNAME:CST
DTSTART:20261101T070000
END:STANDARD
BEGIN:DAYLIGHT
TZOFFSETFROM:-0600
TZOFFSETTO:-0500
TZNAME:CDT
DTSTART:20270314T080000
END:DAYLIGHT
BEGIN:STANDARD
TZOFFSETFROM:-0500
TZOFFSETTO:-0600
TZNAME:CST
DTSTART:20271107T070000
END:STANDARD
END:VTIMEZONE
BEGIN:VEVENT
DTSTART;TZID=America/Chicago:20260321T150000
DTEND;TZID=America/Chicago:20260321T163000
DTSTAMP:20260419T210724
CREATED:20260315T070422Z
LAST-MODIFIED:20260327T055051Z
UID:13927-1774105200-1774110600@guildcomplex.org
SUMMARY:Digital Archives of the Unseen: Artist Talk
DESCRIPTION:Artist Talk: Memory\, Erasure\, and the Living Archive\n\n\nInterdisciplinary\, interdimensional artist\, writer\, and ritual maker Faylita Hicks joins Walls Turned Sideways Gallery\, a nationally recognized space centering art\, justice\, and incarceration\, co-sponsored by the Guild Literary Complex\, for an artist talk on memory\, erasure\, and the politics of archiving. \nDrawing from Digital Archives of the Unseen\, Hicks discusses poetry as archival technology and the use of found digital media\, obsolete devices\, and ritual practice to examine surveillance\, disappearance\, testimony\, and collective remembrance. The talk explores how personal and communal memory is preserved\, distorted\, or erased—particularly through systems of incarceration and state power. \nThis conversation offers critical and historical context for the exhibition while inviting audiences to consider how archives live\, fail\, and resist.
URL:https://guildcomplex.org/event/digital-archives-of-the-unseen-artist-talk/
LOCATION:Walls Turned Sideways\, 2717 West Madison Street\, Chicago\, IL\, 60612\, United States
CATEGORIES:Special Events
ATTACH;FMTTYPE=image/png:https://guildcomplex.org/wp-content/uploads/2026/03/Eventbrite-Banner-Walls-Turned-Sideways-03.21.2026-1.png
END:VEVENT
END:VCALENDAR