BEGIN:VCALENDAR
VERSION:2.0
PRODID:-//Guild Literary Complex - ECPv6.15.20//NONSGML v1.0//EN
CALSCALE:GREGORIAN
METHOD:PUBLISH
X-WR-CALNAME:Guild Literary Complex
X-ORIGINAL-URL:https://guildcomplex.org
X-WR-CALDESC:Events for Guild Literary Complex
REFRESH-INTERVAL;VALUE=DURATION:PT1H
X-Robots-Tag:noindex
X-PUBLISHED-TTL:PT1H
BEGIN:VTIMEZONE
TZID:America/Chicago
BEGIN:DAYLIGHT
TZOFFSETFROM:-0600
TZOFFSETTO:-0500
TZNAME:CDT
DTSTART:20150308T080000
END:DAYLIGHT
BEGIN:STANDARD
TZOFFSETFROM:-0500
TZOFFSETTO:-0600
TZNAME:CST
DTSTART:20151101T070000
END:STANDARD
BEGIN:DAYLIGHT
TZOFFSETFROM:-0600
TZOFFSETTO:-0500
TZNAME:CDT
DTSTART:20160313T080000
END:DAYLIGHT
BEGIN:STANDARD
TZOFFSETFROM:-0500
TZOFFSETTO:-0600
TZNAME:CST
DTSTART:20161106T070000
END:STANDARD
BEGIN:DAYLIGHT
TZOFFSETFROM:-0600
TZOFFSETTO:-0500
TZNAME:CDT
DTSTART:20170312T080000
END:DAYLIGHT
BEGIN:STANDARD
TZOFFSETFROM:-0500
TZOFFSETTO:-0600
TZNAME:CST
DTSTART:20171105T070000
END:STANDARD
END:VTIMEZONE
BEGIN:VEVENT
DTSTART;TZID=America/Chicago:20160316T193000
DTEND;TZID=America/Chicago:20160316T210000
DTSTAMP:20260420T195729
CREATED:20160303T061406Z
LAST-MODIFIED:20160303T062317Z
UID:3520-1458156600-1458162000@guildcomplex.org
SUMMARY:Palabra Pura March 16\, 2016
DESCRIPTION:Palabra Pura March 16\, 2016 7:30 – 9:00 pm \n“Turnt in Relevant Opacity” Curated by Ricardo Gamboa \nCurrent events ranging from cover-ups of police shootings and growing social inequalities further underline just how dark or “opaque” times have become for some of us in this city. These injustices are exasperated when it comes to mainstream Chicago arts and cultural production where Chicago narratives and voices (particularly those of color) are absent. Societal blind spots have not always been spaces of denigrated living\, but also places where people have found creative ways to live under social pressures. The Guild LIterary Complex invites you to Palabra Pura\, an event where four Latino writer-performers share their poetry. All being Chicago natives\, they extend into their communities through radically politicized actions and often operate without institutional support and outside of the non-profit industrial complex. The fresh work complicates notions and expectations of Latino identity while bringing a native voice to the Midwest\, urban\, brown community often unrepresented in local culture. \n\nFeaturing: \n\n\n\n\nKRISTIANA RAE COLÓN \n\n\n\n\nELIJAH RUIZ \n\n\n\n\nSTEVEN BEAUDION \n\n\n\n\n\n\n\n\nGARCIA JULISSA \n  \n\nOpen Mic Returns so come join in!
URL:https://guildcomplex.org/event/palabra-pura-march-16-2016/
LOCATION:La Bruquena Restaurant\, 2726 W. Division\, Chicago\, IL\, United States
CATEGORIES:Palabra Pura
END:VEVENT
END:VCALENDAR